BEGIN:VCALENDAR
VERSION:2.0
PRODID:-//Fundacja Dantian - ECPv6.15.20//NONSGML v1.0//EN
CALSCALE:GREGORIAN
METHOD:PUBLISH
X-WR-CALNAME:Fundacja Dantian
X-ORIGINAL-URL:https://fundacjadantian.com
X-WR-CALDESC:Wydarzenia dla Fundacja Dantian
REFRESH-INTERVAL;VALUE=DURATION:PT1H
X-Robots-Tag:noindex
X-PUBLISHED-TTL:PT1H
BEGIN:VTIMEZONE
TZID:Europe/Warsaw
BEGIN:DAYLIGHT
TZOFFSETFROM:+0100
TZOFFSETTO:+0200
TZNAME:CEST
DTSTART:20170326T010000
END:DAYLIGHT
BEGIN:STANDARD
TZOFFSETFROM:+0200
TZOFFSETTO:+0100
TZNAME:CET
DTSTART:20171029T010000
END:STANDARD
BEGIN:DAYLIGHT
TZOFFSETFROM:+0100
TZOFFSETTO:+0200
TZNAME:CEST
DTSTART:20180325T010000
END:DAYLIGHT
BEGIN:STANDARD
TZOFFSETFROM:+0200
TZOFFSETTO:+0100
TZNAME:CET
DTSTART:20181028T010000
END:STANDARD
BEGIN:DAYLIGHT
TZOFFSETFROM:+0100
TZOFFSETTO:+0200
TZNAME:CEST
DTSTART:20190331T010000
END:DAYLIGHT
BEGIN:STANDARD
TZOFFSETFROM:+0200
TZOFFSETTO:+0100
TZNAME:CET
DTSTART:20191027T010000
END:STANDARD
END:VTIMEZONE
BEGIN:VEVENT
DTSTART;TZID=Europe/Warsaw:20180228T180000
DTEND;TZID=Europe/Warsaw:20180228T193000
DTSTAMP:20260425T125112
CREATED:20180130T124700Z
LAST-MODIFIED:20180130T124700Z
UID:15166-1519840800-1519846200@fundacjadantian.com
SUMMARY:Nei gong a klasyczne style walki - Ly Chuan Zheng
DESCRIPTION:Serdecznie zapraszamy na wyjątkowe spotkanie – wykład z mistrzem siódmej generacji Starego Stylu Yang Taijiquan\, Ly Chuan Zheng’iem\,  przebywającym z krótką wizytą w Warszawie. Przedstawi on\, na podstawie własnych doświadczeń\, jak ważną rolę w tradycyjnych chińskich stylach walki\, czy utrzymania zdrowia\, odgrywa systematyczna praca z energią wewnętrzną.  Tłumaczy Jan Gliński (Fundacja Dantian). Wstęp wolny. Info: https://fundacjadantian.com) \nW ten sam dzień\, po wykładzie\, w godzinach 19.30 – 21:00\, będzie można wziąć udział w warsztatach z mistrzem Ly\, NEI GONG W PRAKTYCE\, zapoznającymi z wybranymi ćwiczeniami  taiji neigong. Tłumaczy Jan Gliński (Fundacja Dantian).
URL:https://fundacjadantian.com/wydarzenie/nei-gong-a-klasyczne-style-walki-ly-chuan-zheng/
ATTACH;FMTTYPE=image/jpeg:https://fundacjadantian.com/wp-content/uploads/2016/08/Mistrz-Ly-w-Polsce.jpg
END:VEVENT
BEGIN:VEVENT
DTSTART;TZID=Europe/Warsaw:20180228T193000
DTEND;TZID=Europe/Warsaw:20180228T210000
DTSTAMP:20260425T125112
CREATED:20180130T125321Z
LAST-MODIFIED:20180130T125321Z
UID:15169-1519846200-1519851600@fundacjadantian.com
SUMMARY:Nei gong w praktyce
DESCRIPTION:NEI GONG W PRAKTYCE – warsztaty z mistrzem Ly\, zapoznające z wybranymi ćwiczeniami  taiji neigong. Tłumaczy Jan Gliński (Fundacja Dantian). \nSerdecznie zapraszamy na wcześniejszy wykład mistrza Ly\, Nei gong a klasyczne style walki (godz. 18.00; wstęp wolny). Przedstawi on. na podstawie własnych doświadczeń. jak ważną rolę w tradycyjnych chińskich stylach walki\, czy utrzymania zdrowia\, odgrywa systematyczna praca z energią wewnętrzną.  Tłumaczy Jan Gliński.
URL:https://fundacjadantian.com/wydarzenie/nei-gong-w-praktyce/
CATEGORIES:Qigong - MAiP
ATTACH;FMTTYPE=image/jpeg:https://fundacjadantian.com/wp-content/uploads/2016/04/Antoine-Ly.jpg
END:VEVENT
END:VCALENDAR