BEGIN:VCALENDAR
VERSION:2.0
PRODID:-//Fundacja Dantian - ECPv6.15.20//NONSGML v1.0//EN
CALSCALE:GREGORIAN
METHOD:PUBLISH
X-WR-CALNAME:Fundacja Dantian
X-ORIGINAL-URL:https://fundacjadantian.com
X-WR-CALDESC:Wydarzenia dla Fundacja Dantian
REFRESH-INTERVAL;VALUE=DURATION:PT1H
X-Robots-Tag:noindex
X-PUBLISHED-TTL:PT1H
BEGIN:VTIMEZONE
TZID:Europe/Warsaw
BEGIN:DAYLIGHT
TZOFFSETFROM:+0100
TZOFFSETTO:+0200
TZNAME:CEST
DTSTART:20170326T010000
END:DAYLIGHT
BEGIN:STANDARD
TZOFFSETFROM:+0200
TZOFFSETTO:+0100
TZNAME:CET
DTSTART:20171029T010000
END:STANDARD
BEGIN:DAYLIGHT
TZOFFSETFROM:+0100
TZOFFSETTO:+0200
TZNAME:CEST
DTSTART:20180325T010000
END:DAYLIGHT
BEGIN:STANDARD
TZOFFSETFROM:+0200
TZOFFSETTO:+0100
TZNAME:CET
DTSTART:20181028T010000
END:STANDARD
BEGIN:DAYLIGHT
TZOFFSETFROM:+0100
TZOFFSETTO:+0200
TZNAME:CEST
DTSTART:20190331T010000
END:DAYLIGHT
BEGIN:STANDARD
TZOFFSETFROM:+0200
TZOFFSETTO:+0100
TZNAME:CET
DTSTART:20191027T010000
END:STANDARD
END:VTIMEZONE
BEGIN:VEVENT
DTSTART;TZID=Europe/Warsaw:20180325T090000
DTEND;TZID=Europe/Warsaw:20180325T100000
DTSTAMP:20260425T192617
CREATED:20180323T201538Z
LAST-MODIFIED:20180323T201538Z
UID:15325-1521968400-1521972000@fundacjadantian.com
SUMMARY:TRENING WEEKENDOWY
DESCRIPTION:Zapraszamy na trening do Parku Łazienkowskiego. Spotykamy się o 9:00 przed Starą Kordegardą (jeśli deszcz\, śnieg – w Pawilonie Chińskim). Broń mile widziana ????
URL:https://fundacjadantian.com/wydarzenie/trening-weekendowy-4/
CATEGORIES:Trening weekendowy
ATTACH;FMTTYPE=image/jpeg:https://fundacjadantian.com/wp-content/uploads/2018/01/Post-noworoczny.jpg
END:VEVENT
END:VCALENDAR