BEGIN:VCALENDAR
VERSION:2.0
PRODID:-//Fundacja Dantian - ECPv6.15.20//NONSGML v1.0//EN
CALSCALE:GREGORIAN
METHOD:PUBLISH
X-WR-CALNAME:Fundacja Dantian
X-ORIGINAL-URL:https://fundacjadantian.com
X-WR-CALDESC:Wydarzenia dla Fundacja Dantian
REFRESH-INTERVAL;VALUE=DURATION:PT1H
X-Robots-Tag:noindex
X-PUBLISHED-TTL:PT1H
BEGIN:VTIMEZONE
TZID:Europe/Warsaw
BEGIN:DAYLIGHT
TZOFFSETFROM:+0100
TZOFFSETTO:+0200
TZNAME:CEST
DTSTART:20170326T010000
END:DAYLIGHT
BEGIN:STANDARD
TZOFFSETFROM:+0200
TZOFFSETTO:+0100
TZNAME:CET
DTSTART:20171029T010000
END:STANDARD
BEGIN:DAYLIGHT
TZOFFSETFROM:+0100
TZOFFSETTO:+0200
TZNAME:CEST
DTSTART:20180325T010000
END:DAYLIGHT
BEGIN:STANDARD
TZOFFSETFROM:+0200
TZOFFSETTO:+0100
TZNAME:CET
DTSTART:20181028T010000
END:STANDARD
BEGIN:DAYLIGHT
TZOFFSETFROM:+0100
TZOFFSETTO:+0200
TZNAME:CEST
DTSTART:20190331T010000
END:DAYLIGHT
BEGIN:STANDARD
TZOFFSETFROM:+0200
TZOFFSETTO:+0100
TZNAME:CET
DTSTART:20191027T010000
END:STANDARD
END:VTIMEZONE
BEGIN:VEVENT
DTSTART;TZID=Europe/Warsaw:20180516T180000
DTEND;TZID=Europe/Warsaw:20180516T193000
DTSTAMP:20260425T125106
CREATED:20180430T101433Z
LAST-MODIFIED:20180430T101433Z
UID:15440-1526493600-1526499000@fundacjadantian.com
SUMMARY:Qigong na kręgosłup
DESCRIPTION:Warsztaty zapoznają z ćwiczeniami qigongu uelastyczniającymi kręgosłup i usuwającymi blokady energetyczne odpowiedzialne za bóle pleców oraz związane z nimi schorzenia. Prowadzi Jan Gliński (Fundacja Dantian). Wstęp: 30 zł. Więcej informacji na: www.fundacjadantian.com
URL:https://fundacjadantian.com/wydarzenie/qigong-na-kregoslup-5/
CATEGORIES:Qigong - MAiP
ATTACH;FMTTYPE=image/jpeg:https://fundacjadantian.com/wp-content/uploads/2017/09/Qigong-kregoslupa_2017.jpg
END:VEVENT
END:VCALENDAR