BEGIN:VCALENDAR
VERSION:2.0
PRODID:-//Fundacja Dantian - ECPv6.15.20//NONSGML v1.0//EN
CALSCALE:GREGORIAN
METHOD:PUBLISH
X-ORIGINAL-URL:https://fundacjadantian.com
X-WR-CALDESC:Wydarzenia dla Fundacja Dantian
REFRESH-INTERVAL;VALUE=DURATION:PT1H
X-Robots-Tag:noindex
X-PUBLISHED-TTL:PT1H
BEGIN:VTIMEZONE
TZID:Europe/Warsaw
BEGIN:DAYLIGHT
TZOFFSETFROM:+0100
TZOFFSETTO:+0200
TZNAME:CEST
DTSTART:20170326T010000
END:DAYLIGHT
BEGIN:STANDARD
TZOFFSETFROM:+0200
TZOFFSETTO:+0100
TZNAME:CET
DTSTART:20171029T010000
END:STANDARD
BEGIN:DAYLIGHT
TZOFFSETFROM:+0100
TZOFFSETTO:+0200
TZNAME:CEST
DTSTART:20180325T010000
END:DAYLIGHT
BEGIN:STANDARD
TZOFFSETFROM:+0200
TZOFFSETTO:+0100
TZNAME:CET
DTSTART:20181028T010000
END:STANDARD
BEGIN:DAYLIGHT
TZOFFSETFROM:+0100
TZOFFSETTO:+0200
TZNAME:CEST
DTSTART:20190331T010000
END:DAYLIGHT
BEGIN:STANDARD
TZOFFSETFROM:+0200
TZOFFSETTO:+0100
TZNAME:CET
DTSTART:20191027T010000
END:STANDARD
END:VTIMEZONE
BEGIN:VEVENT
DTSTART;TZID=Europe/Warsaw:20180526T110000
DTEND;TZID=Europe/Warsaw:20180526T140000
DTSTAMP:20260425T192643
CREATED:20180522T084721Z
LAST-MODIFIED:20180522T084721Z
UID:15525-1527332400-1527343200@fundacjadantian.com
SUMMARY:Dzień Sąsiada w Mokotowskim Centrum Integracji Mieszkańców
DESCRIPTION:Serdecznie zapraszamy na Dzień Sąsiada zorganizowany w dniu 26.05.2018 roku w godz. 11.00-14.00 w Mokotowskim Centrum Integracji Mieszkańców przy ulicy Woronicza 44a. \nW programie prezentacja działalności organizacji pozarządowych działających w MCIM i Partnerstwie Moje Wierzbno \nDarmowy GRILL\,  poczęstunek kawa\, herbata \, konsumpcja konkursowych ciast oraz wśród wielu atrakcji o godzinie 11.50-12.10 występ Fundacji Dantian! \nOto program: \n11.00-11.30 \nPowitanie zaproszonych gości \, prezentacja programu Dnia Sąsiada \n11.30-11.45 \nWystęp chóru WUTW \n11.50-12.10 \nQIGONG – pokaz chińskiej gimnastyki zdrowotnej \n12.30-12.50 \nPokaz dziecięcy Karate \n12.50-13.00 \nQUIZ historyczny \n13.00-13.25 \nPiotr Hajduk – zespół wokalny \n13.30-14.00 \nWystęp taneczno-wokalny zespołu dziecięcego FASOLINKI \n14.00 \nRozstrzygnięcie konkursu ciast\, wręczenie nagród warsztatów kulinarnych i wyróżnień \nZakończenie Dnia Sąsiada \n 
URL:https://fundacjadantian.com/wydarzenie/dzien-sasiada-w-mokotowskim-centrum-integracji-mieszkancow/
ATTACH;FMTTYPE=image/jpeg:https://fundacjadantian.com/wp-content/uploads/2015/10/Miedzynarodowy-Dzien-Seniora_Fundacja-Dantian_4.jpg
END:VEVENT
END:VCALENDAR