BEGIN:VCALENDAR
VERSION:2.0
PRODID:-//Fundacja Dantian - ECPv6.15.20//NONSGML v1.0//EN
CALSCALE:GREGORIAN
METHOD:PUBLISH
X-ORIGINAL-URL:https://fundacjadantian.com
X-WR-CALDESC:Wydarzenia dla Fundacja Dantian
REFRESH-INTERVAL;VALUE=DURATION:PT1H
X-Robots-Tag:noindex
X-PUBLISHED-TTL:PT1H
BEGIN:VTIMEZONE
TZID:Europe/Warsaw
BEGIN:DAYLIGHT
TZOFFSETFROM:+0100
TZOFFSETTO:+0200
TZNAME:CEST
DTSTART:20170326T010000
END:DAYLIGHT
BEGIN:STANDARD
TZOFFSETFROM:+0200
TZOFFSETTO:+0100
TZNAME:CET
DTSTART:20171029T010000
END:STANDARD
BEGIN:DAYLIGHT
TZOFFSETFROM:+0100
TZOFFSETTO:+0200
TZNAME:CEST
DTSTART:20180325T010000
END:DAYLIGHT
BEGIN:STANDARD
TZOFFSETFROM:+0200
TZOFFSETTO:+0100
TZNAME:CET
DTSTART:20181028T010000
END:STANDARD
BEGIN:DAYLIGHT
TZOFFSETFROM:+0100
TZOFFSETTO:+0200
TZNAME:CEST
DTSTART:20190331T010000
END:DAYLIGHT
BEGIN:STANDARD
TZOFFSETFROM:+0200
TZOFFSETTO:+0100
TZNAME:CET
DTSTART:20191027T010000
END:STANDARD
END:VTIMEZONE
BEGIN:VEVENT
DTSTART;TZID=Europe/Warsaw:20180626T180000
DTEND;TZID=Europe/Warsaw:20180626T193000
DTSTAMP:20260425T052100
CREATED:20180626T091555Z
LAST-MODIFIED:20180626T091555Z
UID:15635-1530036000-1530041400@fundacjadantian.com
SUMMARY:Treningi wakacyjne w Łazienkach
DESCRIPTION:Serdecznie zapraszamy adeptów taiji na regularne zajęcia dla grupy zaawansowanej w każdy wtorek i czwartek o 18:00 pod Starą Kordegardę do Łazienek Królewskich. W razie deszczu spotykamy się pod Pawilonem Chińskim. Będziemy doskonalić formę ręczną normalną i zwierciadlaną. Formę z kijem\, mieczem i szablą. \nDo zobaczenia!
URL:https://fundacjadantian.com/wydarzenie/treningi-wakacyjne-w-lazienkach/2018-06-26/
CATEGORIES:Taiji Grupa Zaawansowana
ATTACH;FMTTYPE=image/jpeg:https://fundacjadantian.com/wp-content/uploads/2018/06/Polska-druzyna.jpg
END:VEVENT
END:VCALENDAR