BEGIN:VCALENDAR
VERSION:2.0
PRODID:-//Fundacja Dantian - ECPv6.15.20//NONSGML v1.0//EN
CALSCALE:GREGORIAN
METHOD:PUBLISH
X-WR-CALNAME:Fundacja Dantian
X-ORIGINAL-URL:https://fundacjadantian.com
X-WR-CALDESC:Wydarzenia dla Fundacja Dantian
REFRESH-INTERVAL;VALUE=DURATION:PT1H
X-Robots-Tag:noindex
X-PUBLISHED-TTL:PT1H
BEGIN:VTIMEZONE
TZID:Europe/Warsaw
BEGIN:DAYLIGHT
TZOFFSETFROM:+0100
TZOFFSETTO:+0200
TZNAME:CEST
DTSTART:20170326T010000
END:DAYLIGHT
BEGIN:STANDARD
TZOFFSETFROM:+0200
TZOFFSETTO:+0100
TZNAME:CET
DTSTART:20171029T010000
END:STANDARD
BEGIN:DAYLIGHT
TZOFFSETFROM:+0100
TZOFFSETTO:+0200
TZNAME:CEST
DTSTART:20180325T010000
END:DAYLIGHT
BEGIN:STANDARD
TZOFFSETFROM:+0200
TZOFFSETTO:+0100
TZNAME:CET
DTSTART:20181028T010000
END:STANDARD
BEGIN:DAYLIGHT
TZOFFSETFROM:+0100
TZOFFSETTO:+0200
TZNAME:CEST
DTSTART:20190331T010000
END:DAYLIGHT
BEGIN:STANDARD
TZOFFSETFROM:+0200
TZOFFSETTO:+0100
TZNAME:CET
DTSTART:20191027T010000
END:STANDARD
END:VTIMEZONE
BEGIN:VEVENT
DTSTART;TZID=Europe/Warsaw:20180930T110000
DTEND;TZID=Europe/Warsaw:20180930T160000
DTSTAMP:20260425T192615
CREATED:20180916T133000Z
LAST-MODIFIED:20180916T133000Z
UID:16014-1538305200-1538323200@fundacjadantian.com
SUMMARY:JARMARK KREATYWNOŚCI 2018
DESCRIPTION:Z wielką radością zapraszamy do Ogrodu Saskiego\, wszystkich  seniorów i przyjaciół osób starszych do celebracji tego wyjątkowego święta. Wspólnie pokażemy\, że jesień życia może mieć mnóstwo pięknych barw! Jakie atrakcje czekają na seniorów 30 września? \nW zdrowym ciele zdrowy duch\nUczestnicy będą mogli za darmo zbadać słuch\, poziom tkanki tłuszczowej\, glukozę czy ciśnienie jak również zasięgnąć porady ekspertów: lekarzy\, fizjoterapeutów i psychologów. Będą też farmaceuci\, którzy udzielą informacji nt. zasad refundacji leków i zasad dostępu do leków dla seniorów\, zamiany leków na tańsze odpowiedniki. Seniorzy będą też mogli skorzystać z zabiegów fizykoterapii z użyciem najnowszej generacji sprzętu rehabilitacyjnego! \nRuch to zdrowie\nNie zabraknie okazji do aktywności fizycznej jak pokaz chińskich ćwiczeń energetycznych prowadzonych przez Fundację Dantian nasz występ na scenie odbędzie się między 13:10 – 13:30\, a dodatkowo zapraszamy na wspólne ćwiczenia\, joga śmiechu\, trening Nordic Walking czy zawody sportowe z nagrodami. \nNic o nas bez nas!\nWiedza i doświadczenie seniorów mogą mieć realny wpływ na kształtowanie społeczności dlatego JARMARK do też dobra okazja do pytania seniorów o ważne sprawy. Będzie możliwość skonsultowania programu wolontariatu senioralnego i zabrania głosu w sprawie przywrócenia sieci oddziałów geriatrycznych w szpitalach. Prowadzone też będą konsultacje społeczne dotyczące działalności powiększonej Klubokawiarni Międzypokoleniowej. \nKącik kulturalny\nNa seniorów czekają spotkania z literaturą\, wernisaże prac plastycznych i fotografii wykonanych przez seniorów\, warsztaty plastyczne\, a także specjalna oferta teatralna. Uczestnicy JARMARKU będą też mieć okazję do wykonania własnego rysunku sepią. \nGimnastyka umysłu – rusz głową!\nAby rozruszać szare komórki seniorzy będą mogli sprawdzić się w grach planszowych\, ćwiczeniach pamięci i koncentracji czy mini-lekcji esperanto. Czekają także łamigłówki\, które pobudzają kreatywność i samodzielnie myślenie. \nBezpieczeństwo przede wszystkim\nPolicjanci z Komendy Stołecznej podpowiedzą seniorom jak unikać czyhających na nich zagrożeń\, a prawnicy udzielą bezpłatnych porad prawnych. Natomiast pracownicy Narodowego Banku Polskiego poprowadzą krótkie szkolenia z zakresu rozpoznawania autentyczności polskich banknotów. Specjaliści Sanepid-u zaproszą do udziału w warsztatach nt. zdrowego żywienia. Uczestnicy JARMARKU będą też mieli okazję obejrzeć interesującą wystawę grzybów oraz dowiedzieć się mnóstwa ciekawostek nt. profilaktyki odkleszczowej. \nOferty skrojone na miarę\nWystawcy na JARMARKU zaprezentują szeroką ofertę aktywności\, usług i produktów odpowiadających na potrzeby osób starszych – od biur podróży\, banku po Kluby Seniora i Ośrodki Pomocy Społecznej. \nNiech żyje bal!\nNieodłącznym elementem święta seniorów są występy artystyczne i wspólna zabawa. Będziemy bawić się przy pokazie tańca orientalnego\, popisach wokalnych laureatów festiwalu piosenki retro im. Mieczysława Fogga\, aby na koniec rozgrzać parkiet podczas retro potańcówki i występu znanej wszystkim seniorom-melomanom DJ Wiki. \nMałe co nieco\nNie zabraknie piknikowych smakołyków w przystępnych cenach jak i darmowej aromatycznej kawy. \n 
URL:https://fundacjadantian.com/wydarzenie/jarmark-kreatywnosci-2018/
CATEGORIES:Qigong
ATTACH;FMTTYPE=image/jpeg:https://fundacjadantian.com/wp-content/uploads/2017/10/Dzien-Seniora-Ogrod-Saski_7.jpg
END:VEVENT
END:VCALENDAR