BEGIN:VCALENDAR
VERSION:2.0
PRODID:-//Fundacja Dantian - ECPv6.15.20//NONSGML v1.0//EN
CALSCALE:GREGORIAN
METHOD:PUBLISH
X-WR-CALNAME:Fundacja Dantian
X-ORIGINAL-URL:https://fundacjadantian.com
X-WR-CALDESC:Wydarzenia dla Fundacja Dantian
REFRESH-INTERVAL;VALUE=DURATION:PT1H
X-Robots-Tag:noindex
X-PUBLISHED-TTL:PT1H
BEGIN:VTIMEZONE
TZID:Europe/Warsaw
BEGIN:DAYLIGHT
TZOFFSETFROM:+0100
TZOFFSETTO:+0200
TZNAME:CEST
DTSTART:20170326T010000
END:DAYLIGHT
BEGIN:STANDARD
TZOFFSETFROM:+0200
TZOFFSETTO:+0100
TZNAME:CET
DTSTART:20171029T010000
END:STANDARD
BEGIN:DAYLIGHT
TZOFFSETFROM:+0100
TZOFFSETTO:+0200
TZNAME:CEST
DTSTART:20180325T010000
END:DAYLIGHT
BEGIN:STANDARD
TZOFFSETFROM:+0200
TZOFFSETTO:+0100
TZNAME:CET
DTSTART:20181028T010000
END:STANDARD
BEGIN:DAYLIGHT
TZOFFSETFROM:+0100
TZOFFSETTO:+0200
TZNAME:CEST
DTSTART:20190331T010000
END:DAYLIGHT
BEGIN:STANDARD
TZOFFSETFROM:+0200
TZOFFSETTO:+0100
TZNAME:CET
DTSTART:20191027T010000
END:STANDARD
END:VTIMEZONE
BEGIN:VEVENT
DTSTART;TZID=Europe/Warsaw:20181004T110000
DTEND;TZID=Europe/Warsaw:20181004T120000
DTSTAMP:20260425T013947
CREATED:20180920T131839Z
LAST-MODIFIED:20180920T131839Z
UID:16306-1538650800-1538654400@fundacjadantian.com
SUMMARY:DOM LEKARZA SENIORA
DESCRIPTION:Z dużą przyjemnością pojawiamy się co tydzień w Domu Lekarza Seniora\, ciesząc się\, że możemy ćwiczyć razem z osobami\, które swoje życie\, a z pewnością i część zdrowia\, poświęciły uzdrawianiu innych.  Będąc też najlepszych dowodem tego\, że qigong można ćwiczyć w każdym wieku i kondycji. Oby więcej seniorów miało na to ochotę!
URL:https://fundacjadantian.com/wydarzenie/dom-lekarza-seniora-13/2018-10-04/
CATEGORIES:Qigong
ATTACH;FMTTYPE=image/jpeg:https://fundacjadantian.com/wp-content/uploads/2016/01/Dom-Lekarza-Seniora1.jpg
END:VEVENT
END:VCALENDAR