BEGIN:VCALENDAR
VERSION:2.0
PRODID:-//Fundacja Dantian - ECPv6.15.20//NONSGML v1.0//EN
CALSCALE:GREGORIAN
METHOD:PUBLISH
X-WR-CALNAME:Fundacja Dantian
X-ORIGINAL-URL:https://fundacjadantian.com
X-WR-CALDESC:Wydarzenia dla Fundacja Dantian
REFRESH-INTERVAL;VALUE=DURATION:PT1H
X-Robots-Tag:noindex
X-PUBLISHED-TTL:PT1H
BEGIN:VTIMEZONE
TZID:Europe/Warsaw
BEGIN:DAYLIGHT
TZOFFSETFROM:+0100
TZOFFSETTO:+0200
TZNAME:CEST
DTSTART:20170326T010000
END:DAYLIGHT
BEGIN:STANDARD
TZOFFSETFROM:+0200
TZOFFSETTO:+0100
TZNAME:CET
DTSTART:20171029T010000
END:STANDARD
BEGIN:DAYLIGHT
TZOFFSETFROM:+0100
TZOFFSETTO:+0200
TZNAME:CEST
DTSTART:20180325T010000
END:DAYLIGHT
BEGIN:STANDARD
TZOFFSETFROM:+0200
TZOFFSETTO:+0100
TZNAME:CET
DTSTART:20181028T010000
END:STANDARD
BEGIN:DAYLIGHT
TZOFFSETFROM:+0100
TZOFFSETTO:+0200
TZNAME:CEST
DTSTART:20190331T010000
END:DAYLIGHT
BEGIN:STANDARD
TZOFFSETFROM:+0200
TZOFFSETTO:+0100
TZNAME:CET
DTSTART:20191027T010000
END:STANDARD
END:VTIMEZONE
BEGIN:VEVENT
DTSTART;TZID=Europe/Warsaw:20181010T173000
DTEND;TZID=Europe/Warsaw:20181010T184500
DTSTAMP:20260425T125108
CREATED:20181008T171034Z
LAST-MODIFIED:20181008T171034Z
UID:16774-1539192600-1539197100@fundacjadantian.com
SUMMARY:Joga - rozciąganie\, oddech i medytacja
DESCRIPTION:Wszystko czego potrzebujesz to elastyczność\, swobodny oddech i skupienie. Spokojnie i delikatnie\, bez nadmiernego wysiłku \nale w pełni koncentracji\, osiągać możemy wielkie rezultaty. \nZapraszamy w każdą środę na  zajęcia jogi prowadzone przez Olę Dudę.
URL:https://fundacjadantian.com/wydarzenie/joga-rozciaganie-oddech-i-medytacja/2018-10-10/
CATEGORIES:Studio Dantian
ATTACH;FMTTYPE=:
END:VEVENT
BEGIN:VEVENT
DTSTART;TZID=Europe/Warsaw:20181010T180000
DTEND;TZID=Europe/Warsaw:20181010T193000
DTSTAMP:20260425T125108
CREATED:20180920T132801Z
LAST-MODIFIED:20180920T132801Z
UID:16335-1539194400-1539199800@fundacjadantian.com
SUMMARY:QIGONG DLA OCZU
DESCRIPTION:Po urlopowym okresie\, to zwykle nasze oczy jako pierwsze odczuwają negatywne efekty powrotu do pracy przed ekranami komputerów i smartfonów oraz codziennej\, domowej rutyny; warsztaty zapoznają z ćwiczeniami qigongu mającymi korzystny wpływ na cały proces widzenia Prowadzi Jan Gliński.
URL:https://fundacjadantian.com/wydarzenie/qigong-dla-oczu-4/2018-10-10/
CATEGORIES:Qigong
ATTACH;FMTTYPE=:
END:VEVENT
BEGIN:VEVENT
DTSTART;TZID=Europe/Warsaw:20181010T180000
DTEND;TZID=Europe/Warsaw:20181010T193000
DTSTAMP:20260425T125108
CREATED:20181006T113310Z
LAST-MODIFIED:20181006T113310Z
UID:16682-1539194400-1539199800@fundacjadantian.com
SUMMARY:Qigong w Studio Dantian
DESCRIPTION:Zapraszamy na regularne zajęcia Qigongu do Studia Dantian\, dedykowane wszystkim\, którzy zainteresowni są poznaniem tego dalekowschodniego systemu ćwiczeń.
URL:https://fundacjadantian.com/wydarzenie/qigong-w-studio-dantian/
CATEGORIES:Studio Dantian
ATTACH;FMTTYPE=:
END:VEVENT
BEGIN:VEVENT
DTSTART;TZID=Europe/Warsaw:20181010T190000
DTEND;TZID=Europe/Warsaw:20181010T201500
DTSTAMP:20260425T125108
CREATED:20181004T175204Z
LAST-MODIFIED:20181004T175204Z
UID:16538-1539198000-1539202500@fundacjadantian.com
SUMMARY:Joga kundalini\, prowadzi Kuba Korycki
DESCRIPTION:Zapraszamy na regularne zajęcia jogi kundalini\, prowadzone przez doświadczonego instruktora Kubę Koryckiego. \nKarnet miesięczny 120zł\, pojedyńcze zajęcia 35zł
URL:https://fundacjadantian.com/wydarzenie/joga-kundalini-prowadzi-kuba-korycki/2018-10-10/
CATEGORIES:Studio Dantian
ATTACH;FMTTYPE=:
END:VEVENT
END:VCALENDAR