BEGIN:VCALENDAR
VERSION:2.0
PRODID:-//Fundacja Dantian - ECPv6.15.20//NONSGML v1.0//EN
CALSCALE:GREGORIAN
METHOD:PUBLISH
X-ORIGINAL-URL:https://fundacjadantian.com
X-WR-CALDESC:Wydarzenia dla Fundacja Dantian
REFRESH-INTERVAL;VALUE=DURATION:PT1H
X-Robots-Tag:noindex
X-PUBLISHED-TTL:PT1H
BEGIN:VTIMEZONE
TZID:Europe/Warsaw
BEGIN:DAYLIGHT
TZOFFSETFROM:+0100
TZOFFSETTO:+0200
TZNAME:CEST
DTSTART:20170326T010000
END:DAYLIGHT
BEGIN:STANDARD
TZOFFSETFROM:+0200
TZOFFSETTO:+0100
TZNAME:CET
DTSTART:20171029T010000
END:STANDARD
BEGIN:DAYLIGHT
TZOFFSETFROM:+0100
TZOFFSETTO:+0200
TZNAME:CEST
DTSTART:20180325T010000
END:DAYLIGHT
BEGIN:STANDARD
TZOFFSETFROM:+0200
TZOFFSETTO:+0100
TZNAME:CET
DTSTART:20181028T010000
END:STANDARD
BEGIN:DAYLIGHT
TZOFFSETFROM:+0100
TZOFFSETTO:+0200
TZNAME:CEST
DTSTART:20190331T010000
END:DAYLIGHT
BEGIN:STANDARD
TZOFFSETFROM:+0200
TZOFFSETTO:+0100
TZNAME:CET
DTSTART:20191027T010000
END:STANDARD
END:VTIMEZONE
BEGIN:VEVENT
DTSTART;TZID=Europe/Warsaw:20181013T110000
DTEND;TZID=Europe/Warsaw:20181013T130000
DTSTAMP:20260425T192638
CREATED:20181005T075841Z
LAST-MODIFIED:20181005T075841Z
UID:16641-1539428400-1539435600@fundacjadantian.com
SUMMARY:Sesja terapeutyczna z fotelem dr. Mazura
DESCRIPTION:Zapraszamy na wyjątkową sesję informacyjno-terapeutyczną. Do naszego nowo otwartego Studia Dantian\, lada chwila zawita rewelacyjne urządzenie\, zaprojektowane przez dra med. Tadeusza Mazura – specjalistę rehabilitacji i neurologii.\nPrototyp ruchomego fotela\, służącego do diagnostyki i rehabilitacji osób z wadami postawy będzie można wypróbować na własnym ciele! Dr Mazur\, podzieli się z nami interesującymi wnioskami\, na temat przyczyn wielu schorzeń\, pozornie nie związanych z kręgosłupem i postawą ciała w ogóle. Obowiązują zapisy.
URL:https://fundacjadantian.com/wydarzenie/sesja-terapeutyczna-z-fotelem-dr-mazura/
CATEGORIES:Studio Dantian
ATTACH;FMTTYPE=:
END:VEVENT
END:VCALENDAR