BEGIN:VCALENDAR
VERSION:2.0
PRODID:-//Fundacja Dantian - ECPv6.15.20//NONSGML v1.0//EN
CALSCALE:GREGORIAN
METHOD:PUBLISH
X-WR-CALNAME:Fundacja Dantian
X-ORIGINAL-URL:https://fundacjadantian.com
X-WR-CALDESC:Wydarzenia dla Fundacja Dantian
REFRESH-INTERVAL;VALUE=DURATION:PT1H
X-Robots-Tag:noindex
X-PUBLISHED-TTL:PT1H
BEGIN:VTIMEZONE
TZID:Europe/Warsaw
BEGIN:DAYLIGHT
TZOFFSETFROM:+0100
TZOFFSETTO:+0200
TZNAME:CEST
DTSTART:20170326T010000
END:DAYLIGHT
BEGIN:STANDARD
TZOFFSETFROM:+0200
TZOFFSETTO:+0100
TZNAME:CET
DTSTART:20171029T010000
END:STANDARD
BEGIN:DAYLIGHT
TZOFFSETFROM:+0100
TZOFFSETTO:+0200
TZNAME:CEST
DTSTART:20180325T010000
END:DAYLIGHT
BEGIN:STANDARD
TZOFFSETFROM:+0200
TZOFFSETTO:+0100
TZNAME:CET
DTSTART:20181028T010000
END:STANDARD
BEGIN:DAYLIGHT
TZOFFSETFROM:+0100
TZOFFSETTO:+0200
TZNAME:CEST
DTSTART:20190331T010000
END:DAYLIGHT
BEGIN:STANDARD
TZOFFSETFROM:+0200
TZOFFSETTO:+0100
TZNAME:CET
DTSTART:20191027T010000
END:STANDARD
END:VTIMEZONE
BEGIN:VEVENT
DTSTART;TZID=Europe/Warsaw:20181019T180000
DTEND;TZID=Europe/Warsaw:20181019T200000
DTSTAMP:20260425T125105
CREATED:20181005T110928Z
LAST-MODIFIED:20181005T110928Z
UID:16651-1539972000-1539979200@fundacjadantian.com
SUMMARY:Kobieta - Drzewo Życia\, wykład Marka Tarana
DESCRIPTION:Zapraszamy na ciekawe spotkanie z Markiem Taranem\, który o kobiecości mówi w sposób wyjątkowy. „Kobieta – Drzewo Życia”. \n1. Drzewo Życia jako symbol kobiecej mocy\, \n2. Święty Gaj Bogini – Żeńskość i jej znaczenie w przekazach dawnych kultur\, \n3. Korzenie jako połączenie z Ziemią – podstawa kobiecej mocy\, \n4. Esencje Drzewa – sekrety układu hormonalnego\, \n5. Światło Drzewa – kobieta kluczem do życia i nieśmiertelności\, \n6. Rola mężczyzny jako opiekuna Drzewa Życia \nWykład jest bezpłatny. Dziękujemy  serdecznie Markowi za wsparcie naszego Studia Dantian! Jednocześnie będziemy wdzięczni za wszelkie datki\, którymi zechcecie nas wesprzeć\, aby miejsce mogło rozwijć się i rozszerzać swoją ofertę dla Was.
URL:https://fundacjadantian.com/wydarzenie/kobieta-drzewo-zycia-wyklad-marka-tarana/
CATEGORIES:Studio Dantian
ATTACH;FMTTYPE=:
END:VEVENT
END:VCALENDAR