BEGIN:VCALENDAR
VERSION:2.0
PRODID:-//Fundacja Dantian - ECPv6.15.20//NONSGML v1.0//EN
CALSCALE:GREGORIAN
METHOD:PUBLISH
X-WR-CALNAME:Fundacja Dantian
X-ORIGINAL-URL:https://fundacjadantian.com
X-WR-CALDESC:Wydarzenia dla Fundacja Dantian
REFRESH-INTERVAL;VALUE=DURATION:PT1H
X-Robots-Tag:noindex
X-PUBLISHED-TTL:PT1H
BEGIN:VTIMEZONE
TZID:Europe/Warsaw
BEGIN:DAYLIGHT
TZOFFSETFROM:+0100
TZOFFSETTO:+0200
TZNAME:CEST
DTSTART:20170326T010000
END:DAYLIGHT
BEGIN:STANDARD
TZOFFSETFROM:+0200
TZOFFSETTO:+0100
TZNAME:CET
DTSTART:20171029T010000
END:STANDARD
BEGIN:DAYLIGHT
TZOFFSETFROM:+0100
TZOFFSETTO:+0200
TZNAME:CEST
DTSTART:20180325T010000
END:DAYLIGHT
BEGIN:STANDARD
TZOFFSETFROM:+0200
TZOFFSETTO:+0100
TZNAME:CET
DTSTART:20181028T010000
END:STANDARD
BEGIN:DAYLIGHT
TZOFFSETFROM:+0100
TZOFFSETTO:+0200
TZNAME:CEST
DTSTART:20190331T010000
END:DAYLIGHT
BEGIN:STANDARD
TZOFFSETFROM:+0200
TZOFFSETTO:+0100
TZNAME:CET
DTSTART:20191027T010000
END:STANDARD
END:VTIMEZONE
BEGIN:VEVENT
DTSTART;TZID=Europe/Warsaw:20181026T180000
DTEND;TZID=Europe/Warsaw:20181026T200000
DTSTAMP:20260425T192623
CREATED:20181022T110328Z
LAST-MODIFIED:20181022T110328Z
UID:16853-1540576800-1540584000@fundacjadantian.com
SUMMARY:Tomasz Styk\, twórca suplementów dedykowanych - spotkanie
DESCRIPTION:Zapraszamy na ciekawe spotkanie z Tomaszem Stykiem\, twórcą Sundose\, suplementów diety drugiej generacji. W raporcie dotyczącym opinii Polaków o suplementach diety\, Instytut Badań Pollster\, 11.2016 pokazuje że aż 91% Polaków błędnie dobiera suplementy dla siebie! Warto zaczerpnąć nieco informacji i przyjść na spotkanie do Studia Dantian! \nCo wyróżnia Sundose? Wywiad zdrowotny stworzony przez specjalistów\, konsultacja z dietetykiem oraz badania uzupełniające pozwalające na określenie potrzeb i dopasowanie składników suplementu do stylu życia\, każdego indywidualnie. \nBrzmi interesująco? \nZapraszamy serdecznie.
URL:https://fundacjadantian.com/wydarzenie/tomasz-styk-tworca-suplementow-dedykowanych-spotkanie/
CATEGORIES:Studio Dantian
ATTACH;FMTTYPE=image/jpeg:https://fundacjadantian.com/wp-content/uploads/2018/10/Prelekcja-Tomasza-Styka.jpg
END:VEVENT
END:VCALENDAR