BEGIN:VCALENDAR
VERSION:2.0
PRODID:-//Fundacja Dantian - ECPv6.15.20//NONSGML v1.0//EN
CALSCALE:GREGORIAN
METHOD:PUBLISH
X-ORIGINAL-URL:https://fundacjadantian.com
X-WR-CALDESC:Wydarzenia dla Fundacja Dantian
REFRESH-INTERVAL;VALUE=DURATION:PT1H
X-Robots-Tag:noindex
X-PUBLISHED-TTL:PT1H
BEGIN:VTIMEZONE
TZID:Europe/Warsaw
BEGIN:DAYLIGHT
TZOFFSETFROM:+0100
TZOFFSETTO:+0200
TZNAME:CEST
DTSTART:20170326T010000
END:DAYLIGHT
BEGIN:STANDARD
TZOFFSETFROM:+0200
TZOFFSETTO:+0100
TZNAME:CET
DTSTART:20171029T010000
END:STANDARD
BEGIN:DAYLIGHT
TZOFFSETFROM:+0100
TZOFFSETTO:+0200
TZNAME:CEST
DTSTART:20180325T010000
END:DAYLIGHT
BEGIN:STANDARD
TZOFFSETFROM:+0200
TZOFFSETTO:+0100
TZNAME:CET
DTSTART:20181028T010000
END:STANDARD
BEGIN:DAYLIGHT
TZOFFSETFROM:+0100
TZOFFSETTO:+0200
TZNAME:CEST
DTSTART:20190331T010000
END:DAYLIGHT
BEGIN:STANDARD
TZOFFSETFROM:+0200
TZOFFSETTO:+0100
TZNAME:CET
DTSTART:20191027T010000
END:STANDARD
END:VTIMEZONE
BEGIN:VEVENT
DTSTART;TZID=Europe/Warsaw:20181123T180000
DTEND;TZID=Europe/Warsaw:20181123T200000
DTSTAMP:20260425T023644
CREATED:20181029T175044Z
LAST-MODIFIED:20181029T175044Z
UID:16920-1542996000-1543003200@fundacjadantian.com
SUMMARY:Co zdrowiu człowieka daje Aikido - wykład Bartłomieja Gajowca
DESCRIPTION:Japońska sztuka samoobrony AIKIDO wnosi w nasz świat wiele ofert\, w tym zdrowotną. Można je realizować w każdym wieku\, bez względu na stopień sprawności.  O tym\, jak również o pozafizycznych aspektach AIKIDO dowiecie się na spotkaniu z Bartłomiejem Gajowcem\, fizjoterapeutą i wieloletnim adeptem tej sztuki. \nSpotkanie będzie podzielone na dwie części\, teoretyczną i praktyczną. Część teoretyczna odbędzie się w górnej sali (nr 37) i jest bezpłatna. Na część drugą zapraszamy do sali dolnej (nr 137) wstęp 30zł. \n  \n  \n  \n  \n  \n  \n  \n  \nhttps://www.youtube.com/watch?v=NDZ6fS_MR8Q
URL:https://fundacjadantian.com/wydarzenie/co-zdrowiu-czlowieka-daje-aikido-wyklad-bartlomieja-gajowca/
CATEGORIES:Studio Dantian
ATTACH;FMTTYPE=image/jpeg:https://fundacjadantian.com/wp-content/uploads/2018/09/Aikido_Ursynow.jpg
END:VEVENT
END:VCALENDAR