BEGIN:VCALENDAR
VERSION:2.0
PRODID:-//Fundacja Dantian - ECPv6.15.20//NONSGML v1.0//EN
CALSCALE:GREGORIAN
METHOD:PUBLISH
X-WR-CALNAME:Fundacja Dantian
X-ORIGINAL-URL:https://fundacjadantian.com
X-WR-CALDESC:Wydarzenia dla Fundacja Dantian
REFRESH-INTERVAL;VALUE=DURATION:PT1H
X-Robots-Tag:noindex
X-PUBLISHED-TTL:PT1H
BEGIN:VTIMEZONE
TZID:Europe/Warsaw
BEGIN:DAYLIGHT
TZOFFSETFROM:+0100
TZOFFSETTO:+0200
TZNAME:CEST
DTSTART:20170326T010000
END:DAYLIGHT
BEGIN:STANDARD
TZOFFSETFROM:+0200
TZOFFSETTO:+0100
TZNAME:CET
DTSTART:20171029T010000
END:STANDARD
BEGIN:DAYLIGHT
TZOFFSETFROM:+0100
TZOFFSETTO:+0200
TZNAME:CEST
DTSTART:20180325T010000
END:DAYLIGHT
BEGIN:STANDARD
TZOFFSETFROM:+0200
TZOFFSETTO:+0100
TZNAME:CET
DTSTART:20181028T010000
END:STANDARD
BEGIN:DAYLIGHT
TZOFFSETFROM:+0100
TZOFFSETTO:+0200
TZNAME:CEST
DTSTART:20190331T010000
END:DAYLIGHT
BEGIN:STANDARD
TZOFFSETFROM:+0200
TZOFFSETTO:+0100
TZNAME:CET
DTSTART:20191027T010000
END:STANDARD
END:VTIMEZONE
BEGIN:VEVENT
DTSTART;TZID=Europe/Warsaw:20181217T180000
DTEND;TZID=Europe/Warsaw:20181217T200000
DTSTAMP:20260425T055703
CREATED:20181128T091025Z
LAST-MODIFIED:20181128T091025Z
UID:17091-1545069600-1545076800@fundacjadantian.com
SUMMARY:SPOTKANIE WIGILIJNE Z FUNDACJĄ DANTIAN
DESCRIPTION:TRADYCYJNA JUŻ ATRAKCJA GRUDNIA  🙂 –  SPOTKANIE WIGILIJNE Z FUNDACJĄ DANTIAN – 17. 12. 2018 (poniedziałek)\, ale o tym będzie jeszcze osobny wpis\, zarezerwujcie czas\, widzimy się w Studio Dantian\, na Słupeckiej 4\, o godzinie 18.00. 
URL:https://fundacjadantian.com/wydarzenie/spotkanie-wigilijne-z-fundacja-dantian/
CATEGORIES:Studio Dantian
ATTACH;FMTTYPE=:
END:VEVENT
END:VCALENDAR