BEGIN:VCALENDAR
VERSION:2.0
PRODID:-//Fundacja Dantian - ECPv6.15.20//NONSGML v1.0//EN
CALSCALE:GREGORIAN
METHOD:PUBLISH
X-WR-CALNAME:Fundacja Dantian
X-ORIGINAL-URL:https://fundacjadantian.com
X-WR-CALDESC:Wydarzenia dla Fundacja Dantian
REFRESH-INTERVAL;VALUE=DURATION:PT1H
X-Robots-Tag:noindex
X-PUBLISHED-TTL:PT1H
BEGIN:VTIMEZONE
TZID:Europe/Warsaw
BEGIN:DAYLIGHT
TZOFFSETFROM:+0100
TZOFFSETTO:+0200
TZNAME:CEST
DTSTART:20170326T010000
END:DAYLIGHT
BEGIN:STANDARD
TZOFFSETFROM:+0200
TZOFFSETTO:+0100
TZNAME:CET
DTSTART:20171029T010000
END:STANDARD
BEGIN:DAYLIGHT
TZOFFSETFROM:+0100
TZOFFSETTO:+0200
TZNAME:CEST
DTSTART:20180325T010000
END:DAYLIGHT
BEGIN:STANDARD
TZOFFSETFROM:+0200
TZOFFSETTO:+0100
TZNAME:CET
DTSTART:20181028T010000
END:STANDARD
BEGIN:DAYLIGHT
TZOFFSETFROM:+0100
TZOFFSETTO:+0200
TZNAME:CEST
DTSTART:20190331T010000
END:DAYLIGHT
BEGIN:STANDARD
TZOFFSETFROM:+0200
TZOFFSETTO:+0100
TZNAME:CET
DTSTART:20191027T010000
END:STANDARD
END:VTIMEZONE
BEGIN:VEVENT
DTSTART;TZID=Europe/Warsaw:20181230T090000
DTEND;TZID=Europe/Warsaw:20181230T130000
DTSTAMP:20260425T055700
CREATED:20181226T104334Z
LAST-MODIFIED:20181226T104334Z
UID:17391-1546160400-1546174800@fundacjadantian.com
SUMMARY:Buduję siebie (drugi dzień warsztatów)
DESCRIPTION:Serdecznie zapraszamy na ostatni weekend roku\, na twórczą podróż z Praktyką Jogi\, podczas której: \nŻegnamy wszystkie negatywne\, niewspierające filtry\, które zniekształcają nasze życie i nie pozwalają uwierzyć we własną twórczą moc\, w nadzieję i miłość. \nOczyszczamy nasze ciała\, umysły\, dusze\, pozbywając się tym samym wzorców myślowych\, które są przyczyną niewspierających nas nawyków\, i życiowych niekorzystnych doświadczeń. \nSobota jest tym dniem\, w którym robimy porządek. \nPozbywamy się śmieci\, przyglądamy się sobie: co pożegnać\, co odciąć\, co zostawić za sobą. \nRobimy przestrzeń\, oczyszczamy siebie. Radykalnie odcinamy\, to co nam nie sprzyja \nNiedziela natomiast jest tym dniem\, w którym siejemy nowe ziarna \n\nPoprzez zmianę sposobu myślenia przywołujemy to\, co chcemy obudzić i powołać w naszym życiu do istnienia.\nW niedzielę budujemy siebie – dom naszego spokoju. Cegła po cegle. Spokojnie. Wytrwale\, bez pośpiechu. Stawiamy fundamenty naszego świata\, życia\, szczęścia\, naszego zdrowia i radości.Poprzez asanę\, świadomy oddech\, pracę z mantrą\, afirmacją i relaksacją budujemy więź ze sobą\, pogłębiamy związek ze sobą i życiem.Serdecznie zapraszamy do współtworzenia wewnętrznej prosperity\, która przekłada się na wszystkie nasze doświadczenia i działania\n\nKarolina Brzezińska \nFundacja Dantian\nUl. Słupecka 4/37\nStara Ochota \nSobota i niedziela\n29-30 grudnia\,\nod 9.00 do 13.00 \nCena: 280 pln \nZaliczkę w wysokości 100 pln\, która gwarantuje miejsce w programie\,\nproszę wpłacać na nr konta; \nKarolina Brzezińska Yoga Art\n28 1240 6292 1111 0010 8616 3609
URL:https://fundacjadantian.com/wydarzenie/buduje-siebie-drugi-dzien-warsztatow/
CATEGORIES:Studio Dantian
ATTACH;FMTTYPE=:
END:VEVENT
BEGIN:VEVENT
DTSTART;TZID=Europe/Warsaw:20181230T180000
DTEND;TZID=Europe/Warsaw:20181230T190000
DTSTAMP:20260425T055700
CREATED:20181126T132347Z
LAST-MODIFIED:20181126T132347Z
UID:17050-1546192800-1546196400@fundacjadantian.com
SUMMARY:GONGI I INSTRUMENTY ETNICZNE\, KUBA KORYCKI
DESCRIPTION:Kameralna ceremonia dźwięku – koncert/masaż dźwiękiem gongów i instrumentów etnicznych\nWykonawca: Dreamtone – Sol Yogen\, Kuba Korycki.\nMiejsce: Studio Dantian\, Warszawa ul.Słupecka 4/137. Domofon 137.\nProsimy o zabranie ze sobą karimaty i koca (ew. również poduszki\, jeśli jest taka potrzeba)
URL:https://fundacjadantian.com/wydarzenie/gongi-i-instrumenty-etniczne-kuba-korycki-2/
CATEGORIES:Studio Dantian
ATTACH;FMTTYPE=:
END:VEVENT
END:VCALENDAR