BEGIN:VCALENDAR
VERSION:2.0
PRODID:-//Fundacja Dantian - ECPv6.15.20//NONSGML v1.0//EN
CALSCALE:GREGORIAN
METHOD:PUBLISH
X-ORIGINAL-URL:https://fundacjadantian.com
X-WR-CALDESC:Wydarzenia dla Fundacja Dantian
REFRESH-INTERVAL;VALUE=DURATION:PT1H
X-Robots-Tag:noindex
X-PUBLISHED-TTL:PT1H
BEGIN:VTIMEZONE
TZID:Europe/Warsaw
BEGIN:DAYLIGHT
TZOFFSETFROM:+0100
TZOFFSETTO:+0200
TZNAME:CEST
DTSTART:20180325T010000
END:DAYLIGHT
BEGIN:STANDARD
TZOFFSETFROM:+0200
TZOFFSETTO:+0100
TZNAME:CET
DTSTART:20181028T010000
END:STANDARD
BEGIN:DAYLIGHT
TZOFFSETFROM:+0100
TZOFFSETTO:+0200
TZNAME:CEST
DTSTART:20190331T010000
END:DAYLIGHT
BEGIN:STANDARD
TZOFFSETFROM:+0200
TZOFFSETTO:+0100
TZNAME:CET
DTSTART:20191027T010000
END:STANDARD
BEGIN:DAYLIGHT
TZOFFSETFROM:+0100
TZOFFSETTO:+0200
TZNAME:CEST
DTSTART:20200329T010000
END:DAYLIGHT
BEGIN:STANDARD
TZOFFSETFROM:+0200
TZOFFSETTO:+0100
TZNAME:CET
DTSTART:20201025T010000
END:STANDARD
END:VTIMEZONE
BEGIN:VEVENT
DTSTART;TZID=Europe/Warsaw:20190101T090000
DTEND;TZID=Europe/Warsaw:20190101T100000
DTSTAMP:20260425T055653
CREATED:20181229T121915Z
LAST-MODIFIED:20181229T121915Z
UID:17398-1546333200-1546336800@fundacjadantian.com
SUMMARY:Trening noworoczny
DESCRIPTION:Dawka energii świadomego ruchu jest jak najbardziej wskazana\, zarówno po sylwestrowych szaleństwach\, jak i aby energetycznie przywitać kolejny Nowy Rok!   Zapraszamy zatem przed Kordegardę na wspólny trening formy ręcznej Starego Stylu Yang oraz broni (miecz\, szabla\, kij). W razie deszczu widzimy się w Pawilonie Chińskim
URL:https://fundacjadantian.com/wydarzenie/trening-noworoczny/
CATEGORIES:Trening weekendowy
ATTACH;FMTTYPE=image/jpeg:https://fundacjadantian.com/wp-content/uploads/2018/01/Post-noworoczny.jpg
END:VEVENT
END:VCALENDAR