BEGIN:VCALENDAR
VERSION:2.0
PRODID:-//Fundacja Dantian - ECPv6.15.20//NONSGML v1.0//EN
CALSCALE:GREGORIAN
METHOD:PUBLISH
X-ORIGINAL-URL:https://fundacjadantian.com
X-WR-CALDESC:Wydarzenia dla Fundacja Dantian
REFRESH-INTERVAL;VALUE=DURATION:PT1H
X-Robots-Tag:noindex
X-PUBLISHED-TTL:PT1H
BEGIN:VTIMEZONE
TZID:Europe/Warsaw
BEGIN:DAYLIGHT
TZOFFSETFROM:+0100
TZOFFSETTO:+0200
TZNAME:CEST
DTSTART:20180325T010000
END:DAYLIGHT
BEGIN:STANDARD
TZOFFSETFROM:+0200
TZOFFSETTO:+0100
TZNAME:CET
DTSTART:20181028T010000
END:STANDARD
BEGIN:DAYLIGHT
TZOFFSETFROM:+0100
TZOFFSETTO:+0200
TZNAME:CEST
DTSTART:20190331T010000
END:DAYLIGHT
BEGIN:STANDARD
TZOFFSETFROM:+0200
TZOFFSETTO:+0100
TZNAME:CET
DTSTART:20191027T010000
END:STANDARD
BEGIN:DAYLIGHT
TZOFFSETFROM:+0100
TZOFFSETTO:+0200
TZNAME:CEST
DTSTART:20200329T010000
END:DAYLIGHT
BEGIN:STANDARD
TZOFFSETFROM:+0200
TZOFFSETTO:+0100
TZNAME:CET
DTSTART:20201025T010000
END:STANDARD
END:VTIMEZONE
BEGIN:VEVENT
DTSTART;TZID=Europe/Warsaw:20190208T180000
DTEND;TZID=Europe/Warsaw:20190208T200000
DTSTAMP:20260425T004108
CREATED:20190116T120941Z
LAST-MODIFIED:20190116T120941Z
UID:17537-1549648800-1549656000@fundacjadantian.com
SUMMARY:Przywitanie Chińskiego Nowego Roku 2019 w MAiP
DESCRIPTION:Przywitanie Nowego Roku Świni Ziemi – piątek\, 08.02\, 18.00.  Po raz kolejny Fundacja Dantian razem z MAiP organizuje wspólną celebrację Nowego Roku Chińskiego. Tradycyjnie już spojrzymy na symboliczne zwierzę zodiaku chińskiego nie tylko z perspektywy Państwa Środka\, ale również na znaczenie i obraz Świni/Dzika  w innych kulturach i mitologiach. Na zakończenie wszyscy chętni będą mogli poćwiczyć „qigong dzika”\, specjalnie przygotowany na tę okazję. Spotkaniu będzie towarzyszyć mini-kiermasz. Prowadzi Jan Gliński (Fundacja Dantian). Wstęp wolny.
URL:https://fundacjadantian.com/wydarzenie/przywitanie-chinskiego-nowego-roku-2019-w-maip/
CATEGORIES:Qigong - MAiP
ATTACH;FMTTYPE=:
END:VEVENT
END:VCALENDAR