BEGIN:VCALENDAR
VERSION:2.0
PRODID:-//Fundacja Dantian - ECPv6.15.20//NONSGML v1.0//EN
CALSCALE:GREGORIAN
METHOD:PUBLISH
X-WR-CALNAME:Fundacja Dantian
X-ORIGINAL-URL:https://fundacjadantian.com
X-WR-CALDESC:Wydarzenia dla Fundacja Dantian
REFRESH-INTERVAL;VALUE=DURATION:PT1H
X-Robots-Tag:noindex
X-PUBLISHED-TTL:PT1H
BEGIN:VTIMEZONE
TZID:Europe/Warsaw
BEGIN:DAYLIGHT
TZOFFSETFROM:+0100
TZOFFSETTO:+0200
TZNAME:CEST
DTSTART:20180325T010000
END:DAYLIGHT
BEGIN:STANDARD
TZOFFSETFROM:+0200
TZOFFSETTO:+0100
TZNAME:CET
DTSTART:20181028T010000
END:STANDARD
BEGIN:DAYLIGHT
TZOFFSETFROM:+0100
TZOFFSETTO:+0200
TZNAME:CEST
DTSTART:20190331T010000
END:DAYLIGHT
BEGIN:STANDARD
TZOFFSETFROM:+0200
TZOFFSETTO:+0100
TZNAME:CET
DTSTART:20191027T010000
END:STANDARD
BEGIN:DAYLIGHT
TZOFFSETFROM:+0100
TZOFFSETTO:+0200
TZNAME:CEST
DTSTART:20200329T010000
END:DAYLIGHT
BEGIN:STANDARD
TZOFFSETFROM:+0200
TZOFFSETTO:+0100
TZNAME:CET
DTSTART:20201025T010000
END:STANDARD
END:VTIMEZONE
BEGIN:VEVENT
DTSTART;TZID=Europe/Warsaw:20190215T180000
DTEND;TZID=Europe/Warsaw:20190215T200000
DTSTAMP:20260424T194748
CREATED:20190204T115013Z
LAST-MODIFIED:20190204T115013Z
UID:17716-1550253600-1550260800@fundacjadantian.com
SUMMARY:Słowa w terapii - spotkanie panelowe
DESCRIPTION:Słowa w terapii stanowią niejednokrotnie punkt zwrotny całego procesu. Ich brak potrafi dokuczać\, ich siłą jest ich brzmienie\, znaczenie\, wybór tych\, a nie innych. Słowa mają moc. Dlaczego wybieramy te\, a nie inne? Skąd bierze ich obrazowość? Dokąd mogą zaprowadzić słowa w terapii? Czy są formą wsparcia\, uruchomienia zmian\, pierwszym jasnym rozbłyskiem świadomego spojrzenia na samego siebie i rzeczywistą sytuację chorobową? \nO tych i innych zagadnieniach porozmawiamy z gośćmi spotkania:\nJanem Glińskim – założycielem i liderem Studia Dantian\, menadżerem\,\nTomaszem Chodkowskim – autorem książki Szczęście bajkami cerowane\,\nBogdanem Granickim reprezentującym Wydawnictwo Virgo\,\nBartłomiejem Gajowcem – fizjoterapeutą\, praktykiem aikido\,\nbędzie z nami też człowiek dający świadectwo siły słów w chorobie. \n  \n  \nZapraszamy wszystkich\, którzy leczą\, są leczeni\, są ciekawi językowej warstwy słów\, lubią je i cenią ich działanie. \nPodczas spotkania wystawione zostaną książki Wydawnictwa Virgo i będzie można je nabyć. \nWstęp wolny.
URL:https://fundacjadantian.com/wydarzenie/slowa-w-terapii-spotkanie-panelowe/
CATEGORIES:Studio Dantian
ATTACH;FMTTYPE=:
END:VEVENT
END:VCALENDAR