BEGIN:VCALENDAR
VERSION:2.0
PRODID:-//Fundacja Dantian - ECPv6.15.20//NONSGML v1.0//EN
CALSCALE:GREGORIAN
METHOD:PUBLISH
X-WR-CALNAME:Fundacja Dantian
X-ORIGINAL-URL:https://fundacjadantian.com
X-WR-CALDESC:Wydarzenia dla Fundacja Dantian
REFRESH-INTERVAL;VALUE=DURATION:PT1H
X-Robots-Tag:noindex
X-PUBLISHED-TTL:PT1H
BEGIN:VTIMEZONE
TZID:Europe/Warsaw
BEGIN:DAYLIGHT
TZOFFSETFROM:+0100
TZOFFSETTO:+0200
TZNAME:CEST
DTSTART:20180325T010000
END:DAYLIGHT
BEGIN:STANDARD
TZOFFSETFROM:+0200
TZOFFSETTO:+0100
TZNAME:CET
DTSTART:20181028T010000
END:STANDARD
BEGIN:DAYLIGHT
TZOFFSETFROM:+0100
TZOFFSETTO:+0200
TZNAME:CEST
DTSTART:20190331T010000
END:DAYLIGHT
BEGIN:STANDARD
TZOFFSETFROM:+0200
TZOFFSETTO:+0100
TZNAME:CET
DTSTART:20191027T010000
END:STANDARD
BEGIN:DAYLIGHT
TZOFFSETFROM:+0100
TZOFFSETTO:+0200
TZNAME:CEST
DTSTART:20200329T010000
END:DAYLIGHT
BEGIN:STANDARD
TZOFFSETFROM:+0200
TZOFFSETTO:+0100
TZNAME:CET
DTSTART:20201025T010000
END:STANDARD
END:VTIMEZONE
BEGIN:VEVENT
DTSTART;TZID=Europe/Warsaw:20190216T100000
DTEND;TZID=Europe/Warsaw:20190216T170000
DTSTAMP:20260424T061530
CREATED:20190204T121541Z
LAST-MODIFIED:20190204T121541Z
UID:17720-1550311200-1550336400@fundacjadantian.com
SUMMARY:Anatomia Sztuk Walki - dwudniowy warsztat
DESCRIPTION:Ćwiczysz aikido\, karate\, takewondo\, bjj\, wing tsun\, dżudo\, taiji czy capoeirę? \nChcesz dowiedzieć się\, jak zbudowane jest ciało człowieka ćwiczącego sztuki walki? Jak pracują stawy\, co nimi porusza\, jak koordynowane są ruchy?\nCzym jest legendarny kręgosłup\, jaka jest jego funkcja i co z tego wynika dla sztuk walk?\nChcecie nauczyć się ćwiczeń\, dzięki którym Wasze stawy będą sprawniejsze?\nChcecie wymienić doświadczenia z treningów\, rozwiać mity i niedomówienia z zakresu anatomii?\nChcecie wiedzieć\, skąd bierze się ból w sztukach walki i jak sobie z nim radzić oraz jak zapobiegać urazom\, by ćwiczyć bezpiecznie? \n  \n  \nTen warsztat * jest dla WAS! \nProwadzący:\nBartłomiej Gajowiec\, fizjoterapeuta\, praktyk aikido\, łączę te dwa światy w ciekawe projekty edukacyjne\, założyłem Tenshin Aikido Global Polska – szkołę afiliowaną przy Tenshin Aikido Global Jaime Calderona z USA. \nwpłaty z dopiskiem: Anatomia Sztuk Walki proszę dokonywać na konto Tenshin Aikido Global Polska nr 21 1160 2202 0000 0002 0919 5670 i przesyłanie zgłoszeń na info@tenshinaikido.pl wraz z potwierdzeniem wpłaty\, dziękuję. \n*Warsztaty będą rejestrowane na nośnikach\, zgłaszający wyrażają zgodę na publikację wizerunku dla celów TAGP\, warsztaty odbędą się przy minimalnej ilości osób 10.\nDla członków Tenshin Aikido Global Polska zniżka 40%. \nGdzie? \nStudio Dantian\, warszawska Ochota\, ul. Słupecka 4/37
URL:https://fundacjadantian.com/wydarzenie/anatomia-sztuk-walki-dwudniowy-warsztat/
CATEGORIES:Studio Dantian
ATTACH;FMTTYPE=:
END:VEVENT
END:VCALENDAR