BEGIN:VCALENDAR
VERSION:2.0
PRODID:-//Fundacja Dantian - ECPv6.15.20//NONSGML v1.0//EN
CALSCALE:GREGORIAN
METHOD:PUBLISH
X-ORIGINAL-URL:https://fundacjadantian.com
X-WR-CALDESC:Wydarzenia dla Fundacja Dantian
REFRESH-INTERVAL;VALUE=DURATION:PT1H
X-Robots-Tag:noindex
X-PUBLISHED-TTL:PT1H
BEGIN:VTIMEZONE
TZID:Europe/Warsaw
BEGIN:DAYLIGHT
TZOFFSETFROM:+0100
TZOFFSETTO:+0200
TZNAME:CEST
DTSTART:20180325T010000
END:DAYLIGHT
BEGIN:STANDARD
TZOFFSETFROM:+0200
TZOFFSETTO:+0100
TZNAME:CET
DTSTART:20181028T010000
END:STANDARD
BEGIN:DAYLIGHT
TZOFFSETFROM:+0100
TZOFFSETTO:+0200
TZNAME:CEST
DTSTART:20190331T010000
END:DAYLIGHT
BEGIN:STANDARD
TZOFFSETFROM:+0200
TZOFFSETTO:+0100
TZNAME:CET
DTSTART:20191027T010000
END:STANDARD
BEGIN:DAYLIGHT
TZOFFSETFROM:+0100
TZOFFSETTO:+0200
TZNAME:CEST
DTSTART:20200329T010000
END:DAYLIGHT
BEGIN:STANDARD
TZOFFSETFROM:+0200
TZOFFSETTO:+0100
TZNAME:CET
DTSTART:20201025T010000
END:STANDARD
END:VTIMEZONE
BEGIN:VEVENT
DTSTART;TZID=Europe/Warsaw:20190222T180000
DTEND;TZID=Europe/Warsaw:20190222T193000
DTSTAMP:20260424T150446
CREATED:20190124T174755Z
LAST-MODIFIED:20190124T174755Z
UID:17566-1550858400-1550863800@fundacjadantian.com
SUMMARY:System trawienny w kontekście Ajurwedy - wykład Piyush Mittal
DESCRIPTION:Zapraszamy serdecznie na piątkowy wykład. Tym razem zajmiemy się układem trawiennym z punktu widzenia  Ajurwedy – holistycznego sytemu medycznego Indii i Sri lanki. Zaprzyjaźniony już ze Studiem Dantian – Piyush Mittal\, opowie  o tym\, dlaczego to co jemy może być naszym lekarstwem albo wręcz przeciwnie\, może powodować złe samopoczucie a nawet chorobę. \nZapraszamy również na sobotni warsztat\, dotyczący tego\, co robić aby współpraca z naszym organizmem\, szczególnie układem trawiennym była harmonijna  i służyła dobremu zdrowiu.
URL:https://fundacjadantian.com/wydarzenie/system-trawienny-w-kontekscie-ajurwedy-wyklad-piyush-mittal/
CATEGORIES:Studio Dantian
ATTACH;FMTTYPE=:
END:VEVENT
END:VCALENDAR