BEGIN:VCALENDAR
VERSION:2.0
PRODID:-//Fundacja Dantian - ECPv6.15.20//NONSGML v1.0//EN
CALSCALE:GREGORIAN
METHOD:PUBLISH
X-ORIGINAL-URL:https://fundacjadantian.com
X-WR-CALDESC:Wydarzenia dla Fundacja Dantian
REFRESH-INTERVAL;VALUE=DURATION:PT1H
X-Robots-Tag:noindex
X-PUBLISHED-TTL:PT1H
BEGIN:VTIMEZONE
TZID:Europe/Warsaw
BEGIN:DAYLIGHT
TZOFFSETFROM:+0100
TZOFFSETTO:+0200
TZNAME:CEST
DTSTART:20180325T010000
END:DAYLIGHT
BEGIN:STANDARD
TZOFFSETFROM:+0200
TZOFFSETTO:+0100
TZNAME:CET
DTSTART:20181028T010000
END:STANDARD
BEGIN:DAYLIGHT
TZOFFSETFROM:+0100
TZOFFSETTO:+0200
TZNAME:CEST
DTSTART:20190331T010000
END:DAYLIGHT
BEGIN:STANDARD
TZOFFSETFROM:+0200
TZOFFSETTO:+0100
TZNAME:CET
DTSTART:20191027T010000
END:STANDARD
BEGIN:DAYLIGHT
TZOFFSETFROM:+0100
TZOFFSETTO:+0200
TZNAME:CEST
DTSTART:20200329T010000
END:DAYLIGHT
BEGIN:STANDARD
TZOFFSETFROM:+0200
TZOFFSETTO:+0100
TZNAME:CET
DTSTART:20201025T010000
END:STANDARD
END:VTIMEZONE
BEGIN:VEVENT
DTSTART;TZID=Europe/Warsaw:20190223T100000
DTEND;TZID=Europe/Warsaw:20190223T150000
DTSTAMP:20260424T062113
CREATED:20190124T174028Z
LAST-MODIFIED:20190124T174028Z
UID:17560-1550916000-1550934000@fundacjadantian.com
SUMMARY:Ajurweda - pożywienie naszym lekarstwem -  Piyush Mittal - warsztat
DESCRIPTION:Po raz kolejny naszym gościem będzie Piyush Mittal\, ceniony znawca i praktyk Ajurwedy\, holistycznego sytemu medycznego Indii i Sri lanki. Tym razem skupimy się na systemie trawiennym. Poznamy praktyczne metody\, co zrobić by pożywienie stało się naszym lekarstwem. Dowiemy się jaką konstytucję ma nasze ciało ( pitta\, vata\, kapha ) i jak najlepiej się o nie zatroszczyć.\n\nWarsztat będzie trwał od 10:00 do 15:00\nKoszt: 150 zł
URL:https://fundacjadantian.com/wydarzenie/ajurweda-pozywienie-naszym-lekarstwem-piyush-mittal-warsztat/
CATEGORIES:Studio Dantian
ATTACH;FMTTYPE=:
END:VEVENT
END:VCALENDAR