BEGIN:VCALENDAR
VERSION:2.0
PRODID:-//Fundacja Dantian - ECPv6.15.20//NONSGML v1.0//EN
CALSCALE:GREGORIAN
METHOD:PUBLISH
X-WR-CALNAME:Fundacja Dantian
X-ORIGINAL-URL:https://fundacjadantian.com
X-WR-CALDESC:Wydarzenia dla Fundacja Dantian
REFRESH-INTERVAL;VALUE=DURATION:PT1H
X-Robots-Tag:noindex
X-PUBLISHED-TTL:PT1H
BEGIN:VTIMEZONE
TZID:Europe/Warsaw
BEGIN:DAYLIGHT
TZOFFSETFROM:+0100
TZOFFSETTO:+0200
TZNAME:CEST
DTSTART:20180325T010000
END:DAYLIGHT
BEGIN:STANDARD
TZOFFSETFROM:+0200
TZOFFSETTO:+0100
TZNAME:CET
DTSTART:20181028T010000
END:STANDARD
BEGIN:DAYLIGHT
TZOFFSETFROM:+0100
TZOFFSETTO:+0200
TZNAME:CEST
DTSTART:20190331T010000
END:DAYLIGHT
BEGIN:STANDARD
TZOFFSETFROM:+0200
TZOFFSETTO:+0100
TZNAME:CET
DTSTART:20191027T010000
END:STANDARD
BEGIN:DAYLIGHT
TZOFFSETFROM:+0100
TZOFFSETTO:+0200
TZNAME:CEST
DTSTART:20200329T010000
END:DAYLIGHT
BEGIN:STANDARD
TZOFFSETFROM:+0200
TZOFFSETTO:+0100
TZNAME:CET
DTSTART:20201025T010000
END:STANDARD
END:VTIMEZONE
BEGIN:VEVENT
DTSTART;TZID=Europe/Warsaw:20190225T180000
DTEND;TZID=Europe/Warsaw:20190225T193000
DTSTAMP:20260424T213244
CREATED:20181212T090946Z
LAST-MODIFIED:20181212T090946Z
UID:17185-1551117600-1551123000@fundacjadantian.com
SUMMARY:Qigong dla kręgosłupa\, Słupecka 4
DESCRIPTION:Zapraszamy na tematyczny Qigong do Studia Dantian. Tym razem zajmiemy się kręgosłupem. Badania naukowe oraz nasze własne doświadczenia\, niejednokrotnie pokazały\, że spokojne ćwiczenia dalekowschodnie mają zbawienne działanie dla naszego kręgosłupa. Poznamy zestaw ćwiczeń przygotowawczych\, dowiemy się w jakich płaszczyznach można ćwiczyć kręgosłup\, jak ruchy skrętne pomagają zachować jego gibkość i zwiększają zakres naszych ruchów. Wystarczy wygodny strój\, obuwie na płaskiej podeszwie i dobre chęci 🙂
URL:https://fundacjadantian.com/wydarzenie/qigong-slupecka-4-2019-02-25/
CATEGORIES:Studio Dantian
ATTACH;FMTTYPE=:
END:VEVENT
END:VCALENDAR