BEGIN:VCALENDAR
VERSION:2.0
PRODID:-//Fundacja Dantian - ECPv6.15.20//NONSGML v1.0//EN
CALSCALE:GREGORIAN
METHOD:PUBLISH
X-WR-CALNAME:Fundacja Dantian
X-ORIGINAL-URL:https://fundacjadantian.com
X-WR-CALDESC:Wydarzenia dla Fundacja Dantian
REFRESH-INTERVAL;VALUE=DURATION:PT1H
X-Robots-Tag:noindex
X-PUBLISHED-TTL:PT1H
BEGIN:VTIMEZONE
TZID:Europe/Warsaw
BEGIN:DAYLIGHT
TZOFFSETFROM:+0100
TZOFFSETTO:+0200
TZNAME:CEST
DTSTART:20180325T010000
END:DAYLIGHT
BEGIN:STANDARD
TZOFFSETFROM:+0200
TZOFFSETTO:+0100
TZNAME:CET
DTSTART:20181028T010000
END:STANDARD
BEGIN:DAYLIGHT
TZOFFSETFROM:+0100
TZOFFSETTO:+0200
TZNAME:CEST
DTSTART:20190331T010000
END:DAYLIGHT
BEGIN:STANDARD
TZOFFSETFROM:+0200
TZOFFSETTO:+0100
TZNAME:CET
DTSTART:20191027T010000
END:STANDARD
BEGIN:DAYLIGHT
TZOFFSETFROM:+0100
TZOFFSETTO:+0200
TZNAME:CEST
DTSTART:20200329T010000
END:DAYLIGHT
BEGIN:STANDARD
TZOFFSETFROM:+0200
TZOFFSETTO:+0100
TZNAME:CET
DTSTART:20201025T010000
END:STANDARD
END:VTIMEZONE
BEGIN:VEVENT
DTSTART;TZID=Europe/Warsaw:20190301T180000
DTEND;TZID=Europe/Warsaw:20190301T203000
DTSTAMP:20260425T021740
CREATED:20190220T100123Z
LAST-MODIFIED:20190220T100123Z
UID:17751-1551463200-1551472200@fundacjadantian.com
SUMMARY:Wprowadzenie do metody Feldenkraisa - wykład i warsztat - Jacek Paszkowski
DESCRIPTION:Zapraszamy na wykład wprowadzający do Motody Feldenkraisa\, który poprowadzi Jacek Paszkowski. Po wykładzie\, dla zainteresowanych praktycznym pogłębianiem wiedzy\, zapraszamy na warsztat\, który składał się będzie z dwóch lekcji ruchowych edukacji somatycznej Metodą Feldenkraisa. \nJacek Paszkowski – mgr rehabilitacji ruchowej\, absolwent warszawskiej AWF\, ukończył trening Metody Feldenkraisa w Chicago w 2000 roku. Żeby zostać nauczycielem Metody Feldenkraisa i uzyskać certyfikat  ukończył trening\, który na przestrzeni 3 – 4 lat obejmuje około 800 godzin edukacyjnych. W 2003 założył Akademię Świadomego Ruchu\, prowadzi lekcje indywidualne i grupowe w Warszawie oraz warsztaty na terenie całego kraju. \n  \nWykład – wstęp wolny\, 45 minut. \nWarsztat – 40PLN –  90 minut. \nNa warsztacie ćwiczymy w wygodnym stroju\, bez butów\, na leżąco. \nProsimy o zabranie maty lub koca. \nIlość miejsc ograniczona\, konieczne zapisy pod numerem telefonu +48 794 506 585 \n  \n \n  \n 
URL:https://fundacjadantian.com/wydarzenie/wprowadzenie-do-metody-feldenkraisa-wyklad-i-warsztat-jacek-paszkowski/
CATEGORIES:Studio Dantian
ATTACH;FMTTYPE=:
END:VEVENT
END:VCALENDAR