BEGIN:VCALENDAR
VERSION:2.0
PRODID:-//Fundacja Dantian - ECPv6.15.20//NONSGML v1.0//EN
CALSCALE:GREGORIAN
METHOD:PUBLISH
X-ORIGINAL-URL:https://fundacjadantian.com
X-WR-CALDESC:Wydarzenia dla Fundacja Dantian
REFRESH-INTERVAL;VALUE=DURATION:PT1H
X-Robots-Tag:noindex
X-PUBLISHED-TTL:PT1H
BEGIN:VTIMEZONE
TZID:Europe/Warsaw
BEGIN:DAYLIGHT
TZOFFSETFROM:+0100
TZOFFSETTO:+0200
TZNAME:CEST
DTSTART:20180325T010000
END:DAYLIGHT
BEGIN:STANDARD
TZOFFSETFROM:+0200
TZOFFSETTO:+0100
TZNAME:CET
DTSTART:20181028T010000
END:STANDARD
BEGIN:DAYLIGHT
TZOFFSETFROM:+0100
TZOFFSETTO:+0200
TZNAME:CEST
DTSTART:20190331T010000
END:DAYLIGHT
BEGIN:STANDARD
TZOFFSETFROM:+0200
TZOFFSETTO:+0100
TZNAME:CET
DTSTART:20191027T010000
END:STANDARD
BEGIN:DAYLIGHT
TZOFFSETFROM:+0100
TZOFFSETTO:+0200
TZNAME:CEST
DTSTART:20200329T010000
END:DAYLIGHT
BEGIN:STANDARD
TZOFFSETFROM:+0200
TZOFFSETTO:+0100
TZNAME:CET
DTSTART:20201025T010000
END:STANDARD
END:VTIMEZONE
BEGIN:VEVENT
DTSTART;TZID=Europe/Warsaw:20190310T150000
DTEND;TZID=Europe/Warsaw:20190310T180000
DTSTAMP:20260424T230425
CREATED:20190301T113736Z
LAST-MODIFIED:20190301T113736Z
UID:17967-1552230000-1552240800@fundacjadantian.com
SUMMARY:Oddychaj świadomie - warsztat - prowadzi Aleksandra Duda
DESCRIPTION:Zapraszam na niedzielny warsztat ODDECHU do Studia Dantian. \nOddech jest wspaniałym narzędziem które zawsze mamy ze sobą. I choć płynie automatycznie\, to możemy na niego świadomie wpływać. W naszej kulturze przypisujemy niewielką wagę do oddechu\, a szkoda\, bo za jego pomocą możemy uspokoić emocje\, skupić się\, dodać sobie energii\, wychłodzić organizm lub wzbudzić w nim ogień. Już samo spowolnienie oddechu wpływa na energię w ciele i pracę umysłu. \nNa początku nauczymy się oddechu prawidłowego opartego na anatomii ciała i poznamy właściwości energetyczne oddychania przez prawe i lewe nozdrze. W drugim kroku\, poznamy różnorodne techniki oddechowe. \nWarsztat odbędzie się w godzinach  15:00 do 18:00.\nKoszt 80PLN \nOla Duda\, nauczycielka jogi poziomu I i II certyfikowana przez amerykański Instytut Jogi Kundalini (KRI).\nPytania i zapisy: +48 606 22 33 66 \n  \nZapraszamy.
URL:https://fundacjadantian.com/wydarzenie/warsztat-oddechu-prowadzi-aleksandra-duda/
CATEGORIES:Studio Dantian
ATTACH;FMTTYPE=:
END:VEVENT
END:VCALENDAR