BEGIN:VCALENDAR
VERSION:2.0
PRODID:-//Fundacja Dantian - ECPv6.15.20//NONSGML v1.0//EN
CALSCALE:GREGORIAN
METHOD:PUBLISH
X-WR-CALNAME:Fundacja Dantian
X-ORIGINAL-URL:https://fundacjadantian.com
X-WR-CALDESC:Wydarzenia dla Fundacja Dantian
REFRESH-INTERVAL;VALUE=DURATION:PT1H
X-Robots-Tag:noindex
X-PUBLISHED-TTL:PT1H
BEGIN:VTIMEZONE
TZID:Europe/Warsaw
BEGIN:DAYLIGHT
TZOFFSETFROM:+0100
TZOFFSETTO:+0200
TZNAME:CEST
DTSTART:20180325T010000
END:DAYLIGHT
BEGIN:STANDARD
TZOFFSETFROM:+0200
TZOFFSETTO:+0100
TZNAME:CET
DTSTART:20181028T010000
END:STANDARD
BEGIN:DAYLIGHT
TZOFFSETFROM:+0100
TZOFFSETTO:+0200
TZNAME:CEST
DTSTART:20190331T010000
END:DAYLIGHT
BEGIN:STANDARD
TZOFFSETFROM:+0200
TZOFFSETTO:+0100
TZNAME:CET
DTSTART:20191027T010000
END:STANDARD
BEGIN:DAYLIGHT
TZOFFSETFROM:+0100
TZOFFSETTO:+0200
TZNAME:CEST
DTSTART:20200329T010000
END:DAYLIGHT
BEGIN:STANDARD
TZOFFSETFROM:+0200
TZOFFSETTO:+0100
TZNAME:CET
DTSTART:20201025T010000
END:STANDARD
END:VTIMEZONE
BEGIN:VEVENT
DTSTART;TZID=Europe/Warsaw:20190315T180000
DTEND;TZID=Europe/Warsaw:20190315T200000
DTSTAMP:20260425T021732
CREATED:20190222T115537Z
LAST-MODIFIED:20190222T115537Z
UID:17878-1552672800-1552680000@fundacjadantian.com
SUMMARY:Kata - japońska metoda kształtowania ciała\, ducha i umysłu - Soke Masanori Ogawa
DESCRIPTION:Serdecznie zapraszamy na spotkanie z Soke Masanori Ogawa\, głową  szkoły World Iai Hyoho HakuroShuntoKai. \nSoke Ogawa urodzony i wychowany w dojo w Himeji\,  stworzył swoją gałąź\, a jako spadkobierca dorobku kultury japońskiej z radością chciałby podzielić się swoją wiedzą z każdym pragnącym się uczyć i poznawać Iai. \nNa spotkaniu na które gorąco zapraszamy\, Soke Ogawa zademonstruje układy Kata\, będące podstawą stylu sztuki walki swojego dojo. Układy Kata nie tylko są nośnikami techniki ale również kształtują osobowość i psychikę ćwiczącego. Mają bardzo starą tradycję i mówi się o nich jako o „żywych istotach” ewoluujących wraz z czasem. Każdy z następnych mistrzów odpowiedzialnych za szkole\, dąży do dalszego rozwoju Kata\, ich skuteczności oraz dba o ich ciągłość historyczną. \nMówi się że Kata są fundamentalne dla światopoglądu danej szkoły i jej członków. \nWstęp wolny
URL:https://fundacjadantian.com/wydarzenie/kata-japonska-metoda-ksztaltowania-ciala-ducha-i-umyslu-soke-masanori-ogawa/
CATEGORIES:Studio Dantian
ATTACH;FMTTYPE=:
END:VEVENT
END:VCALENDAR