BEGIN:VCALENDAR
VERSION:2.0
PRODID:-//Fundacja Dantian - ECPv6.15.20//NONSGML v1.0//EN
CALSCALE:GREGORIAN
METHOD:PUBLISH
X-ORIGINAL-URL:https://fundacjadantian.com
X-WR-CALDESC:Wydarzenia dla Fundacja Dantian
REFRESH-INTERVAL;VALUE=DURATION:PT1H
X-Robots-Tag:noindex
X-PUBLISHED-TTL:PT1H
BEGIN:VTIMEZONE
TZID:Europe/Warsaw
BEGIN:DAYLIGHT
TZOFFSETFROM:+0100
TZOFFSETTO:+0200
TZNAME:CEST
DTSTART:20180325T010000
END:DAYLIGHT
BEGIN:STANDARD
TZOFFSETFROM:+0200
TZOFFSETTO:+0100
TZNAME:CET
DTSTART:20181028T010000
END:STANDARD
BEGIN:DAYLIGHT
TZOFFSETFROM:+0100
TZOFFSETTO:+0200
TZNAME:CEST
DTSTART:20190331T010000
END:DAYLIGHT
BEGIN:STANDARD
TZOFFSETFROM:+0200
TZOFFSETTO:+0100
TZNAME:CET
DTSTART:20191027T010000
END:STANDARD
BEGIN:DAYLIGHT
TZOFFSETFROM:+0100
TZOFFSETTO:+0200
TZNAME:CEST
DTSTART:20200329T010000
END:DAYLIGHT
BEGIN:STANDARD
TZOFFSETFROM:+0200
TZOFFSETTO:+0100
TZNAME:CET
DTSTART:20201025T010000
END:STANDARD
END:VTIMEZONE
BEGIN:VEVENT
DTSTART;TZID=Europe/Warsaw:20190316T110000
DTEND;TZID=Europe/Warsaw:20190316T170000
DTSTAMP:20260425T053928
CREATED:20190301T090735Z
LAST-MODIFIED:20190301T090735Z
UID:17938-1552734000-1552755600@fundacjadantian.com
SUMMARY:Dzień Otwarty w Studiu Dantian
DESCRIPTION:Serdecznie zapraszamy na Dzień Otwarty do Studia Dantian. Będzie można zapoznać się z naszą ofertą\, poćwiczyć z poszczególnymi instruktorami\, dowiedzieć się więcej o oferowanej przez nas terapii kręgosłupa i fotelu AMA oraz o tym czym jest BODY DETOX i jakie dolegliwości może niwelować. Będzie można doświadczyć krótkiego masażu\, jako przedsmak pełnej sesji\, z elementami pinoterapii\, suchym igłowaniem\, dowiedzieć się na czym polega hawajski masaż Lomi Lomi Nui i czym różni się od masażu klasycznego. Ponadto będzie można potańczyć chińską zumbę\, spróbować tańca z wachlarzami bojowymi i dowiedzieć się czym jest Kata – japońska sztuka posługiwania się mieczem!\nDla miłośników dźwięków harmonicznych\, wprowadzający koncert gongów i mis tybetańskich. \nProgram Dnia Otwartego: \n  \nPrzyjdźcie poczuć klimat naszego miejsca\, może zostaniecie dłużej ???? \nSerdecznie zapraszamy!
URL:https://fundacjadantian.com/wydarzenie/dzien-otwarty-w-studiu-dantian/
CATEGORIES:Studio Dantian
ATTACH;FMTTYPE=image/png:https://fundacjadantian.com/wp-content/uploads/2019/03/Dzien-Otwarty-SD-.png
END:VEVENT
END:VCALENDAR