BEGIN:VCALENDAR
VERSION:2.0
PRODID:-//Fundacja Dantian - ECPv6.15.20//NONSGML v1.0//EN
CALSCALE:GREGORIAN
METHOD:PUBLISH
X-ORIGINAL-URL:https://fundacjadantian.com
X-WR-CALDESC:Wydarzenia dla Fundacja Dantian
REFRESH-INTERVAL;VALUE=DURATION:PT1H
X-Robots-Tag:noindex
X-PUBLISHED-TTL:PT1H
BEGIN:VTIMEZONE
TZID:Europe/Warsaw
BEGIN:DAYLIGHT
TZOFFSETFROM:+0100
TZOFFSETTO:+0200
TZNAME:CEST
DTSTART:20180325T010000
END:DAYLIGHT
BEGIN:STANDARD
TZOFFSETFROM:+0200
TZOFFSETTO:+0100
TZNAME:CET
DTSTART:20181028T010000
END:STANDARD
BEGIN:DAYLIGHT
TZOFFSETFROM:+0100
TZOFFSETTO:+0200
TZNAME:CEST
DTSTART:20190331T010000
END:DAYLIGHT
BEGIN:STANDARD
TZOFFSETFROM:+0200
TZOFFSETTO:+0100
TZNAME:CET
DTSTART:20191027T010000
END:STANDARD
BEGIN:DAYLIGHT
TZOFFSETFROM:+0100
TZOFFSETTO:+0200
TZNAME:CEST
DTSTART:20200329T010000
END:DAYLIGHT
BEGIN:STANDARD
TZOFFSETFROM:+0200
TZOFFSETTO:+0100
TZNAME:CET
DTSTART:20201025T010000
END:STANDARD
END:VTIMEZONE
BEGIN:VEVENT
DTSTART;TZID=Europe/Warsaw:20190321T200000
DTEND;TZID=Europe/Warsaw:20190321T213000
DTSTAMP:20260425T004100
CREATED:20190315T110901Z
LAST-MODIFIED:20190315T110901Z
UID:18373-1553198400-1553203800@fundacjadantian.com
SUMMARY:Guangchang wu - chińska zumba
DESCRIPTION:Guangchang wu to niemal dosłownie – publiczny taniec na skwerze\, żartobliwie określany  jako „chińska zumba”. Innymi słowy\, taniec rekreacyjny. Zajęcia polegają na nauce krótkich choreografii bazujących na klasycznym i folkowym tańcu chińskim\, oraz etnicznych – np.: tybetańskim\, mongolskim\, Dai\, ujgurskim\, a także układach  aerobowych zawierających elementy typowe dla tańca typu fitness. W tańcach chińskich często wykorzystuje się charakterystyczne dla nich rekwizyty jak np.: różnego rodzaju wachlarze czy chustki. Zapamiętane choreografie tańczy się bez nacisku na technikę\, dla przyjemności i relaksu z jednej strony\, z drugiej -taniec ten przynosi korzyści fizyczne- wpływa na pamięć\, równowagę\, elastyczność\, stabilizację\, postawę\, nadaje ruchom gracji\, pomaga spalać kalorie  i oczywiście jak każdy rodzaj zdrowego ruchu uwalnia endorfiny czyli hormony szczęścia. Nadaje się dla osób w każdym wieku i kondycji łącznie z osobami starszymi i „puszystymi”.Guangchang wu\, to zajęcia które mogą być traktowane jako oddzielne i przynosić pełną satysfakcję oraz korzyść dla ciała i ducha\, może też być kontynuacją zajęć z shenyun. \nZajęcia odbywają się w czwartki\, od 20.00 – 21.30. Prowadzi Emilia Potocka. \n  \nZapraszamy
URL:https://fundacjadantian.com/wydarzenie/guangchang-wu-chinska-zumba/2019-03-21/
CATEGORIES:Studio Dantian
ATTACH;FMTTYPE=:
END:VEVENT
END:VCALENDAR