BEGIN:VCALENDAR
VERSION:2.0
PRODID:-//Fundacja Dantian - ECPv6.15.20//NONSGML v1.0//EN
CALSCALE:GREGORIAN
METHOD:PUBLISH
X-ORIGINAL-URL:https://fundacjadantian.com
X-WR-CALDESC:Wydarzenia dla Fundacja Dantian
REFRESH-INTERVAL;VALUE=DURATION:PT1H
X-Robots-Tag:noindex
X-PUBLISHED-TTL:PT1H
BEGIN:VTIMEZONE
TZID:Europe/Warsaw
BEGIN:DAYLIGHT
TZOFFSETFROM:+0100
TZOFFSETTO:+0200
TZNAME:CEST
DTSTART:20180325T010000
END:DAYLIGHT
BEGIN:STANDARD
TZOFFSETFROM:+0200
TZOFFSETTO:+0100
TZNAME:CET
DTSTART:20181028T010000
END:STANDARD
BEGIN:DAYLIGHT
TZOFFSETFROM:+0100
TZOFFSETTO:+0200
TZNAME:CEST
DTSTART:20190331T010000
END:DAYLIGHT
BEGIN:STANDARD
TZOFFSETFROM:+0200
TZOFFSETTO:+0100
TZNAME:CET
DTSTART:20191027T010000
END:STANDARD
BEGIN:DAYLIGHT
TZOFFSETFROM:+0100
TZOFFSETTO:+0200
TZNAME:CEST
DTSTART:20200329T010000
END:DAYLIGHT
BEGIN:STANDARD
TZOFFSETFROM:+0200
TZOFFSETTO:+0100
TZNAME:CET
DTSTART:20201025T010000
END:STANDARD
END:VTIMEZONE
BEGIN:VEVENT
DTSTART;TZID=Europe/Warsaw:20190329T180000
DTEND;TZID=Europe/Warsaw:20190329T200000
DTSTAMP:20260425T004059
CREATED:20190301T111848Z
LAST-MODIFIED:20190301T111848Z
UID:17958-1553882400-1553889600@fundacjadantian.com
SUMMARY:TWARZĄ NA WSCHÓD - poczuj się zdrowo w swoim ciele - Marta Pawełek-Dukaczewska
DESCRIPTION:U podstaw wielu chorób występują zastoje w naczyniach żylnych i limfatycznych narządów wewnętrznych i w przestrzeni około narządowej\, a także zmiany położenia narządów. Mogą one powstać w wyniku wysiłku fizycznego\, urazu\, intoksykacji. W większości powodują one spastyczne napięcia narządów\, a to najczęściej\, prowadzi do zaburzeń procesów metabolicznych oraz wzajemnych powiązań narządów między sobą. Dalszą konsekwencją\, jest obniżenie odporności – w ciele pojawiają się bakterie\, grzyby\, pasożyty\, wirusy… Zlikwidowanie zastojów żylno-limfatycznych w narządach i przestrzeniach wokół nich\, wyeliminowanie przemieszczeń narządów wewnętrznych\, prowadzi do normalizacji czynności fizjologicznych i regeneracji całego organizmu\, a poprawa krążenia krwi w jamie brzusznej\, sprzyja odruchowemu zwiększeniu przepływu krwi w okolicy klatki piersiowej\, głowy\, kręgosłupa\, ramion i nóg. Wszystko to\, daje pacjentowi możliwość powrotu do zdrowia! \n  \n  \n  \n  \n  \nCo to znaczy mieć ciało\, w którym można się dobrze czuć? \nCo medycyna chińska mówi o zdrowiu i chorobie? \nJang\, Jin i Czi – czym są i jak się przejawiają? \nOrgany i nasze emocje – czy są powiązane? \n5 smaków – po co są i jak możemy z nich korzystać dla utrzymania zdrowia? \nZapraszamy na prelekcję połączoną z warsztatem\, Marty Pawełek-Dukaczewskiej. \nPo prelekcji\, na warsztacie\, poznamy  Starosłowiański wisceralny masaż brzucha wg metody Ogułowa – codzienna profilaktyka dla utrzymania zdrowia. \n  \nMarta Pawełek-Dukaczewska – dyplomowana terapeutka wisceralna\, wg metody Ogułowa \, coach żywieniowa\, nieustannie rozwijająca swoje umiejętności w zakresie profilaktycznej i leczniczej dietetyki chińskiej\, praktycznego ziołolecznictwa oraz holistycznego podejścia do zdrowia. Z wykształcenia andragog\, zafascynowana psychologią\, psychosomatyką\, wpływem nieuświadamianych mechanizmów emocjonalnych na nasze zdrowie. Z pasji gotuje wg metody 5 przemian\, twórczyni wielu autorskich przepisów kulinarnych\, szerząca ideę slowlife i świadomego kształtowania zdrowia poprzez zmianę myślenia oraz szkodliwych nawyków\, nie tylko żywieniowych. \n  \nPrelekcja wstęp wolny. \nWarsztat 60 minut – 40PLN \n  \nSerdecznie zapraszamy.
URL:https://fundacjadantian.com/wydarzenie/twarza-na-wschod-poczuj-sie-zdrowo-w-swoim-ciele-marta-pawelek-dukaczewska/
CATEGORIES:Studio Dantian
ATTACH;FMTTYPE=:
END:VEVENT
END:VCALENDAR