BEGIN:VCALENDAR
VERSION:2.0
PRODID:-//Fundacja Dantian - ECPv6.15.20//NONSGML v1.0//EN
CALSCALE:GREGORIAN
METHOD:PUBLISH
X-WR-CALNAME:Fundacja Dantian
X-ORIGINAL-URL:https://fundacjadantian.com
X-WR-CALDESC:Wydarzenia dla Fundacja Dantian
REFRESH-INTERVAL;VALUE=DURATION:PT1H
X-Robots-Tag:noindex
X-PUBLISHED-TTL:PT1H
BEGIN:VTIMEZONE
TZID:Europe/Warsaw
BEGIN:DAYLIGHT
TZOFFSETFROM:+0100
TZOFFSETTO:+0200
TZNAME:CEST
DTSTART:20180325T010000
END:DAYLIGHT
BEGIN:STANDARD
TZOFFSETFROM:+0200
TZOFFSETTO:+0100
TZNAME:CET
DTSTART:20181028T010000
END:STANDARD
BEGIN:DAYLIGHT
TZOFFSETFROM:+0100
TZOFFSETTO:+0200
TZNAME:CEST
DTSTART:20190331T010000
END:DAYLIGHT
BEGIN:STANDARD
TZOFFSETFROM:+0200
TZOFFSETTO:+0100
TZNAME:CET
DTSTART:20191027T010000
END:STANDARD
BEGIN:DAYLIGHT
TZOFFSETFROM:+0100
TZOFFSETTO:+0200
TZNAME:CEST
DTSTART:20200329T010000
END:DAYLIGHT
BEGIN:STANDARD
TZOFFSETFROM:+0200
TZOFFSETTO:+0100
TZNAME:CET
DTSTART:20201025T010000
END:STANDARD
END:VTIMEZONE
BEGIN:VEVENT
DTSTART;TZID=Europe/Warsaw:20190615T080000
DTEND;TZID=Europe/Warsaw:20190615T093000
DTSTAMP:20260425T041213
CREATED:20190109T074916Z
LAST-MODIFIED:20190109T074916Z
UID:17505-1560585600-1560591000@fundacjadantian.com
SUMMARY:Trening weekendowy
DESCRIPTION:15 czerwca\, na poranny trening wyjątkowo zapraszamy od godz. 8.00 – 9.30. Dla chcących kontynuować sobotni czas z nami\, zapraszamy na piknik połączony z pokazami w Parku Szczęśliwickim. \nWięcej https://fundacjadantian.com/wydarzenia/tworza-z-ochota-studio-dantian-w-parku-szczesliwickim/ \n  \nSerdecznie zapraszamy pod Kordegardę na wspólny trening formy ręcznej Starego Stylu Yang oraz broni (miecz\, szabla\, kij). W razie deszczu widzimy się w Pawilonie Chińskim
URL:https://fundacjadantian.com/wydarzenie/trening-weekendowy-13-2019-06-15/
CATEGORIES:Trening weekendowy
ATTACH;FMTTYPE=image/jpeg:https://fundacjadantian.com/wp-content/uploads/2018/04/Swiatowy-Dzien-Taiji-i-Qigongu_3.jpg
END:VEVENT
BEGIN:VEVENT
DTSTART;TZID=Europe/Warsaw:20190615T120000
DTEND;TZID=Europe/Warsaw:20190615T180000
DTSTAMP:20260425T041213
CREATED:20190417T124323Z
LAST-MODIFIED:20190417T124323Z
UID:18604-1560600000-1560621600@fundacjadantian.com
SUMMARY:TWORZĄ Z OCHOTĄ – STUDIO DANTIAN W PARKU SZCZĘŚLIWICKIM
DESCRIPTION:Studio Dantian w plenerze! Zapraszamy na pokazy i warsztaty instruktorów Studia Dantian ( i nie tylko!)  do Parku Szczęśliwickiego na warszawskiej Ochocie. \nTWORZĄ Z OCHOTĄ – cykliczna impreza łącząca w sobie działania z różnych dziedzin kultury. Jej celem jest prezentacja dorobku artystycznego uczestników zajęć z placówek kultury i oświaty i sportu  z naszej dzielnicy. To okazja do pokazania osiągnięć amatorskich grup artystycznych i klubów sportowych. Jednocześnie integracja środowiska\,  promocja placówek działających na terenie dzielnicy oraz zaproszenie do uczestnictwa w nowym  sezonie – od  września! \n  \nCo pokarzemy na scenie? \n\nTaiji (tai chi) i qigong (chi kung): formy ręczne oraz z szablą\, mieczem\, kijem\nTaniec chiński\nTaniec z wachlarzami bojowymi\nTaniec brzucha\n\nCzy można z nami poćwiczyć? \nTak! Będziemy prowadzić warsztaty w plenerze w ww. dyscyplinach. \nDla wszystkich chętnych\, bez względu na wiek i kondycję fizyczną (każdy warsztat ok 30- 45 min) \nImpreza rozpoczyna się o godzinie 12.00 \nStudio Dantian zaprezentuje się na scenie tuż przed 16.00
URL:https://fundacjadantian.com/wydarzenie/tworza-z-ochota-studio-dantian-w-parku-szczesliwickim/
CATEGORIES:Studio Dantian
ATTACH;FMTTYPE=:
END:VEVENT
END:VCALENDAR