BEGIN:VCALENDAR
VERSION:2.0
PRODID:-//Fundacja Dantian - ECPv6.15.20//NONSGML v1.0//EN
CALSCALE:GREGORIAN
METHOD:PUBLISH
X-ORIGINAL-URL:https://fundacjadantian.com
X-WR-CALDESC:Wydarzenia dla Fundacja Dantian
REFRESH-INTERVAL;VALUE=DURATION:PT1H
X-Robots-Tag:noindex
X-PUBLISHED-TTL:PT1H
BEGIN:VTIMEZONE
TZID:Europe/Warsaw
BEGIN:DAYLIGHT
TZOFFSETFROM:+0100
TZOFFSETTO:+0200
TZNAME:CEST
DTSTART:20180325T010000
END:DAYLIGHT
BEGIN:STANDARD
TZOFFSETFROM:+0200
TZOFFSETTO:+0100
TZNAME:CET
DTSTART:20181028T010000
END:STANDARD
BEGIN:DAYLIGHT
TZOFFSETFROM:+0100
TZOFFSETTO:+0200
TZNAME:CEST
DTSTART:20190331T010000
END:DAYLIGHT
BEGIN:STANDARD
TZOFFSETFROM:+0200
TZOFFSETTO:+0100
TZNAME:CET
DTSTART:20191027T010000
END:STANDARD
BEGIN:DAYLIGHT
TZOFFSETFROM:+0100
TZOFFSETTO:+0200
TZNAME:CEST
DTSTART:20200329T010000
END:DAYLIGHT
BEGIN:STANDARD
TZOFFSETFROM:+0200
TZOFFSETTO:+0100
TZNAME:CET
DTSTART:20201025T010000
END:STANDARD
END:VTIMEZONE
BEGIN:VEVENT
DTSTART;TZID=Europe/Warsaw:20190628T180000
DTEND;TZID=Europe/Warsaw:20190628T200000
DTSTAMP:20260425T023051
CREATED:20190610T061927Z
LAST-MODIFIED:20190610T061927Z
UID:18726-1561744800-1561752000@fundacjadantian.com
SUMMARY:Wieczór autorski Bartłomieja Gajowca i Mayi Rostkowskiej
DESCRIPTION:Zapraszamy na spotkanie autorskie połączone z wernisażem ilustracji bajki „O Wilku i Promyku” To piękny tekst Bartłomieja Gajowca który ozdobiła cudownymi obrazami  Maya Rostkowska. \nSą bajki\, które pamiętamy od zawsze. Te czytane przez rodziców do snu\, te\, których bohaterów zabieraliśmy ze sobą w sny. Spotkanie z nową bajką prosi o miejsce w sercu na nowe postacie\, wygląd ich oczu i ich przeżycia. Spójrzcie razem z nami\, jak wyglądało przygotowanie opowieści O Wilku i Promyku. Włożyliśmy w nią mnóstwo serca\, dużo farb i trochę tuszu na litery. \nMarzy nam się\, by została ona z Wami na zawsze. \n  \nW czasie spotkania odbędzie się prezentacja krótkich filmików pokazujących proces powstawania ilustracji\, budzących się pomysłów i inspiracji. Przy lampce wina można będzie porozmawiać z autorami na temat kulisów historii z Wilkiem. \nJak przystało na wieczór autorski będzie podpisywanie książki. \nPodczas spotkania odbędzie się wernisaż  ilustracji bajki O Wilku i Promyku\, połączony ze sprzedażą prac. Dochód zostanie przeznaczony na działalność Fundacji Dantian. \nCzekamy na Was o godz. 18.00 w Studiu Dantian\, Słupecka 4/37
URL:https://fundacjadantian.com/wydarzenie/wieczor-autorski-bartlomieja-gajowca-i-mayi-rostkowskiej/
ATTACH;FMTTYPE=image/jpeg:https://fundacjadantian.com/wp-content/uploads/2019/06/Maya-i-Bartek.jpg
END:VEVENT
END:VCALENDAR