BEGIN:VCALENDAR
VERSION:2.0
PRODID:-//Fundacja Dantian - ECPv6.15.20//NONSGML v1.0//EN
CALSCALE:GREGORIAN
METHOD:PUBLISH
X-WR-CALNAME:Fundacja Dantian
X-ORIGINAL-URL:https://fundacjadantian.com
X-WR-CALDESC:Wydarzenia dla Fundacja Dantian
REFRESH-INTERVAL;VALUE=DURATION:PT1H
X-Robots-Tag:noindex
X-PUBLISHED-TTL:PT1H
BEGIN:VTIMEZONE
TZID:Europe/Warsaw
BEGIN:DAYLIGHT
TZOFFSETFROM:+0100
TZOFFSETTO:+0200
TZNAME:CEST
DTSTART:20180325T010000
END:DAYLIGHT
BEGIN:STANDARD
TZOFFSETFROM:+0200
TZOFFSETTO:+0100
TZNAME:CET
DTSTART:20181028T010000
END:STANDARD
BEGIN:DAYLIGHT
TZOFFSETFROM:+0100
TZOFFSETTO:+0200
TZNAME:CEST
DTSTART:20190331T010000
END:DAYLIGHT
BEGIN:STANDARD
TZOFFSETFROM:+0200
TZOFFSETTO:+0100
TZNAME:CET
DTSTART:20191027T010000
END:STANDARD
BEGIN:DAYLIGHT
TZOFFSETFROM:+0100
TZOFFSETTO:+0200
TZNAME:CEST
DTSTART:20200329T010000
END:DAYLIGHT
BEGIN:STANDARD
TZOFFSETFROM:+0200
TZOFFSETTO:+0100
TZNAME:CET
DTSTART:20201025T010000
END:STANDARD
END:VTIMEZONE
BEGIN:VEVENT
DTSTART;TZID=Europe/Warsaw:20190911T083000
DTEND;TZID=Europe/Warsaw:20190911T100000
DTSTAMP:20260424T230334
CREATED:20190905T124558Z
LAST-MODIFIED:20190905T124558Z
UID:19828-1568190600-1568196000@fundacjadantian.com
SUMMARY:Hatha Joga
DESCRIPTION:Z wielką radością informujemy\, że od  środy 11 września o 8.30 rusza nowa grupa Jogi w Studio Dantian! \nKarolina Brzezińska podzieli się z Wami niezwykłymi praktykami oddechowymi\, praktykami asan i relaksacją\, które w sposób imponujący przynoszą niezwykłe korzyści. Możecie tego doświadczyć  już podczas pierwszego spotkania. \nJoga jaką proponuje Karolina podczas praktyki jest odpowiedzią na zmagania ciała i umysłu\, jest pytaniem duszy\, pytaniem\, które odkrywa nowe pytania i przybliża nas do samych siebie.. \nKarolina Brzezińska\, aktorka\, naucza tradycyjnej jogi indyjskiej\, według tradycji Swamiego Kuvalayanandy k. Bombaju\, gdzie pobierała nauki w Instytucie Kaivalyadhama w Lonavala. \nNa co dzień oddana praktyce Hatha Jogi według szkoły Swamiego Kuvalayanandy i dynamicznej wersji suryanamaskar – powitaniu słońca. \nDynamiczne surjanamaskar jest dla niej bezcennym doświadczaniem przepływu siły i mocy\, przekraczaniem wyobrażeń na swój własny temat i otaczającego świata. Witalna\, energetyczna\, inspirująca.. \nSerdecznie zapraszamy! \nJednorazowe zajęcia 40zł. Cena karnetu\, upoważniającego do 4 wejść 130zł.
URL:https://fundacjadantian.com/wydarzenie/hatha-joga/2019-09-11/
CATEGORIES:Studio Dantian
ATTACH;FMTTYPE=:
END:VEVENT
END:VCALENDAR