BEGIN:VCALENDAR
VERSION:2.0
PRODID:-//Fundacja Dantian - ECPv6.15.20//NONSGML v1.0//EN
CALSCALE:GREGORIAN
METHOD:PUBLISH
X-ORIGINAL-URL:https://fundacjadantian.com
X-WR-CALDESC:Wydarzenia dla Fundacja Dantian
REFRESH-INTERVAL;VALUE=DURATION:PT1H
X-Robots-Tag:noindex
X-PUBLISHED-TTL:PT1H
BEGIN:VTIMEZONE
TZID:Europe/Warsaw
BEGIN:DAYLIGHT
TZOFFSETFROM:+0100
TZOFFSETTO:+0200
TZNAME:CEST
DTSTART:20180325T010000
END:DAYLIGHT
BEGIN:STANDARD
TZOFFSETFROM:+0200
TZOFFSETTO:+0100
TZNAME:CET
DTSTART:20181028T010000
END:STANDARD
BEGIN:DAYLIGHT
TZOFFSETFROM:+0100
TZOFFSETTO:+0200
TZNAME:CEST
DTSTART:20190331T010000
END:DAYLIGHT
BEGIN:STANDARD
TZOFFSETFROM:+0200
TZOFFSETTO:+0100
TZNAME:CET
DTSTART:20191027T010000
END:STANDARD
BEGIN:DAYLIGHT
TZOFFSETFROM:+0100
TZOFFSETTO:+0200
TZNAME:CEST
DTSTART:20200329T010000
END:DAYLIGHT
BEGIN:STANDARD
TZOFFSETFROM:+0200
TZOFFSETTO:+0100
TZNAME:CET
DTSTART:20201025T010000
END:STANDARD
END:VTIMEZONE
BEGIN:VEVENT
DTSTART;TZID=Europe/Warsaw:20190927T180000
DTEND;TZID=Europe/Warsaw:20190927T200000
DTSTAMP:20260424T062058
CREATED:20190918T105805Z
LAST-MODIFIED:20190918T105805Z
UID:19963-1569607200-1569614400@fundacjadantian.com
SUMMARY:Hashimoto - jak dzięki diecie odzyskać zdrowie i sylwetkę
DESCRIPTION:Choroba Hashimoto to prawdziwa plaga XXI wieku. Przewlekłe autoimmunologiczne zapalenie tarczycy\, stanowi najczęściej występującą przyczynę niedoczynności tego narządu. Na Hashimoto częściej chorują kobiety niż mężczyźni a w jego przebiegu dochodzi do powolnej destrukcji miąższu i rozwoju niedoczynności narządu. \nAby zrozumieć na czym dokładnie polega choroba\, należy poznać podstawy fizjologii. \nTarczyca to niewielki gruczoł o ogromnym znaczeniu. Nigdy nie boli i nie daje wprost sygnału\, że trzeba się nią zaopiekować. Potrafi jednak wywołać tak nietypowe objawy i nie raz trzeba się nagłowić\, aby dociec\, że o nią właśnie chodzi. Tarczyca to bardzo ważny\, choć często bagatelizowany. Jest to gruczoł wydzielania wewnętrznego składający się z dwóch płatów. Waży od 25 do 60 g i jest jednym z najlepiej ukrwionych narządów ludzkiego ciała. \n\nW trakcie prelekcji poruszymy następujące zagadnienia:\n\n\nHashimoto – w czym tkwi problem i dlaczego leczenie niedoczynności to za mało\nDlaczego osoby z Hashimoto tyją „z powietrza”? Objawy\, zagrożenia i konsekwencje źle prowadzonego leczenia\nDieta w Hashimoto – dieta przeciwzapalna – zasady i wskazówki praktyczne\nFakty i mity na temat diety – gluten\, nabiał\, soja i inne eliminacje – stosować czy nie? Pułapki związane z internetowymi newsami.\nCo może zrobić Hashimotka oprócz stosowania diety? O suplementacji i aktywności fizycznej Hashimotki\nPodsumowanie – holistyczne podejście do leczenia i życia w zgodzie ze swoją chorobą\n\nDzięki prelekcji osoby zainteresowane chorobą Hashimoto rozwieją swoje wątpliwości odnośnie żywienia\, raz na zawsze rozwiążą mity związane z dietami eliminacyjnymi\, a także otrzymają wskazówki praktyczne\, które pozwolą w prostych krokach zmieniać dietę i utrzymać dobre samopoczucie.\n\n\nPrelekcję poprowadzi mgr Anna Świtakowska\, Dietetyk Kliniczny\, Poradnia Nutricus\n\nAnna Świtakowska jest absolwentką Warszawskiego Uniwersytetu Medycznego. Dietetyk kliniczny z zamiłowaniem do wspomagania dietetycznego leczenia zaburzeń hormonalnych\, szczególnie Hashimoto\, insulinooporności\, PCOS i procesu odchudzania często związanego z tymi chorobami. Stałe poszerzanie wiedzy i kompleksowe podejście do pacjenta pozwala na wypracowanie długofalowych i trwałych efektów zdrowotnych oraz sylwetkowych.\nZwolenniczka harmonijnego i rozsądnego podejścia do diety oraz pracy nad nawykami żywieniowymi. Prywatnie fleksitarianka i wielbicielka zdrowych słodkości 🙂\n\nZapraszamy serdecznie
URL:https://fundacjadantian.com/wydarzenie/hashimoto-jak-dzieki-diecie-odzyskac-zdrowie-i-sylwetke/
CATEGORIES:Studio Dantian
ATTACH;FMTTYPE=:
END:VEVENT
END:VCALENDAR