BEGIN:VCALENDAR
VERSION:2.0
PRODID:-//Fundacja Dantian - ECPv6.15.20//NONSGML v1.0//EN
CALSCALE:GREGORIAN
METHOD:PUBLISH
X-WR-CALNAME:Fundacja Dantian
X-ORIGINAL-URL:https://fundacjadantian.com
X-WR-CALDESC:Wydarzenia dla Fundacja Dantian
REFRESH-INTERVAL;VALUE=DURATION:PT1H
X-Robots-Tag:noindex
X-PUBLISHED-TTL:PT1H
BEGIN:VTIMEZONE
TZID:Europe/Warsaw
BEGIN:DAYLIGHT
TZOFFSETFROM:+0100
TZOFFSETTO:+0200
TZNAME:CEST
DTSTART:20180325T010000
END:DAYLIGHT
BEGIN:STANDARD
TZOFFSETFROM:+0200
TZOFFSETTO:+0100
TZNAME:CET
DTSTART:20181028T010000
END:STANDARD
BEGIN:DAYLIGHT
TZOFFSETFROM:+0100
TZOFFSETTO:+0200
TZNAME:CEST
DTSTART:20190331T010000
END:DAYLIGHT
BEGIN:STANDARD
TZOFFSETFROM:+0200
TZOFFSETTO:+0100
TZNAME:CET
DTSTART:20191027T010000
END:STANDARD
BEGIN:DAYLIGHT
TZOFFSETFROM:+0100
TZOFFSETTO:+0200
TZNAME:CEST
DTSTART:20200329T010000
END:DAYLIGHT
BEGIN:STANDARD
TZOFFSETFROM:+0200
TZOFFSETTO:+0100
TZNAME:CET
DTSTART:20201025T010000
END:STANDARD
END:VTIMEZONE
BEGIN:VEVENT
DTSTART;TZID=Europe/Warsaw:20191018T180000
DTEND;TZID=Europe/Warsaw:20191018T200000
DTSTAMP:20260424T114901
CREATED:20191015T153521Z
LAST-MODIFIED:20191015T153521Z
UID:20411-1571421600-1571428800@fundacjadantian.com
SUMMARY:Uwolnij się od bólu i napięć - warsztat
DESCRIPTION:Serdecznie zapraszamy na warsztat  Uwolnij się od napięć i bólu: kręgosłup i plecy \nQigong + fizjoterapia + AMA  18 października 2019 (piątek)\, 18.00 – 20.00 \nProwadzą: Jan Gliński i Anna Gostkowska \nCena: 50 zł (ilość miejsc ograniczona\, wcześniejsze zapisy: studiodantian@gmail.com) \nDrodzy sympatycy taiji i qigongu oraz wszyscy Ci\, którzy codziennie zmagają się z nadmiarem napięć fizycznych i psychicznych: rozpoczynamy nowy cykl warsztatów pod hasłem Uwolnij się od napięć i bólu\, łącząc tradycyjną\, prozdrowotną gimnastykę dalekowschodnią z holistyczną fizjoterapią. \n  \n  \nWedług statystyk\, ponad 80% Polaków cierpi na częste bóle pleców oraz rozliczne napięcia\, związane z siedzącym trybem pracy i brakiem zdrowego\, codziennego ruchu. Nic więc dziwnego\, że nasz pierwszy warsztat z tego cyklu skoncentrowany będzie na prostych technikach uwalniania się od tego typu napięć i bólu. Wykorzystamy też wspaniały wynalazek dr Tadeusza Mazura – fotel AMA (Aktywator Mięśni Antygrawitacyjnych)\, którego ostatni model jest od niedawna dostępny w naszym Studiu Dantian. \nPlan warsztatów zawiera krótką część teoretyczną\, dotyczącą ogólnej budowy i różnych dysfunkcji kręgosłupa. \nCzęść praktyczna będzie zawierać wybrane ćwiczenia qigongu\, prowadzone przez Jana Glińskiego\, oraz holistycznej fizjoterapii\, prezentowane przez naszą nową koleżankę – Annę Gostkowską. Anna jest dyplomowaną fizjoterapeutką\, zorientowaną holistycznie na człowieka. W pracy z pacjentem łączy szereg technik fizjoterapeutycznych z praktycznym użyciem innowacyjnego urządzenia do aktywacji mięśni antygrawitacyjnych – fotela AMA – którego szerokie spektrum działania pomaga przywrócić prawidłową pracę kręgosłupa\, uruchomić przeponę oraz skorygować sylwetkę\, co ma głęboki wpływ na wszystkie nasze układy wewnętrzne i ich harmonijną współpracę. \nUelastycznijmy zatem nasz kręgosłup\, likwidując jego bóle! \nStudio Dantian\, ul. Słupecka 4/37
URL:https://fundacjadantian.com/wydarzenie/uwolnij-sie-od-bolu-i-napiec-warsztat/
CATEGORIES:Studio Dantian
ATTACH;FMTTYPE=image/jpeg:https://fundacjadantian.com/wp-content/uploads/2016/03/Szesc-leczacych-dzwiekow_2.jpg
END:VEVENT
END:VCALENDAR