BEGIN:VCALENDAR
VERSION:2.0
PRODID:-//Fundacja Dantian - ECPv6.15.20//NONSGML v1.0//EN
CALSCALE:GREGORIAN
METHOD:PUBLISH
X-WR-CALNAME:Fundacja Dantian
X-ORIGINAL-URL:https://fundacjadantian.com
X-WR-CALDESC:Wydarzenia dla Fundacja Dantian
REFRESH-INTERVAL;VALUE=DURATION:PT1H
X-Robots-Tag:noindex
X-PUBLISHED-TTL:PT1H
BEGIN:VTIMEZONE
TZID:Europe/Warsaw
BEGIN:DAYLIGHT
TZOFFSETFROM:+0100
TZOFFSETTO:+0200
TZNAME:CEST
DTSTART:20180325T010000
END:DAYLIGHT
BEGIN:STANDARD
TZOFFSETFROM:+0200
TZOFFSETTO:+0100
TZNAME:CET
DTSTART:20181028T010000
END:STANDARD
BEGIN:DAYLIGHT
TZOFFSETFROM:+0100
TZOFFSETTO:+0200
TZNAME:CEST
DTSTART:20190331T010000
END:DAYLIGHT
BEGIN:STANDARD
TZOFFSETFROM:+0200
TZOFFSETTO:+0100
TZNAME:CET
DTSTART:20191027T010000
END:STANDARD
BEGIN:DAYLIGHT
TZOFFSETFROM:+0100
TZOFFSETTO:+0200
TZNAME:CEST
DTSTART:20200329T010000
END:DAYLIGHT
BEGIN:STANDARD
TZOFFSETFROM:+0200
TZOFFSETTO:+0100
TZNAME:CET
DTSTART:20201025T010000
END:STANDARD
END:VTIMEZONE
BEGIN:VEVENT
DTSTART;TZID=Europe/Warsaw:20191025T180000
DTEND;TZID=Europe/Warsaw:20191025T200000
DTSTAMP:20260424T114910
CREATED:20191018T094554Z
LAST-MODIFIED:20191018T094554Z
UID:20419-1572026400-1572033600@fundacjadantian.com
SUMMARY:DŁUGOWIECZNOŚĆ – PRELEKCJA
DESCRIPTION:Zapraszamy na prelekcję dotyczącą długowieczności do Studia Dantian.\n\n– W jaki sposób starzeje się organizm?\n– Co wpływa na proces starzenia?\n– Anti-aging – co to właściwie znaczy?\n– Proces starzenia i stres oksydacyjny. Jak to właściwie działa?\n– Składniki anti-aging w diecie – zasada działania\, źródło\, wdrożenie w codzienne nawyki oraz …\n– 5 zasad wydłużających życie!\n\n\n\n\n\nPrelekcję poprowadzi mgr Anna Świtakowska\,\nDietetyk Kliniczny\, Poradnia Nutricus\n\nAnna Świtakowska jest absolwentką Warszawskiego Uniwersytetu Medycznego. Dietetyk kliniczny z zamiłowaniem do wspomagania dietetycznego leczenia zaburzeń hormonalnych\, szczególnie Hashimoto\, insulinooporności\, PCOS i procesu odchudzania często związanego z tymi chorobami. Stałe poszerzanie wiedzy i kompleksowe podejście do pacjenta pozwala na wypracowanie długofalowych i trwałych efektów zdrowotnych oraz sylwetkowych.\nZwolenniczka harmonijnego i rozsądnego podejścia do diety oraz pracy nad nawykami żywieniowymi. Prywatnie fleksitarianka i wielbicielka zdrowych słodkości.
URL:https://fundacjadantian.com/wydarzenie/dlugowiecznosc-prelekcja/
CATEGORIES:Studio Dantian
ATTACH;FMTTYPE=:
END:VEVENT
END:VCALENDAR