BEGIN:VCALENDAR
VERSION:2.0
PRODID:-//Fundacja Dantian - ECPv6.15.20//NONSGML v1.0//EN
CALSCALE:GREGORIAN
METHOD:PUBLISH
X-WR-CALNAME:Fundacja Dantian
X-ORIGINAL-URL:https://fundacjadantian.com
X-WR-CALDESC:Wydarzenia dla Fundacja Dantian
REFRESH-INTERVAL;VALUE=DURATION:PT1H
X-Robots-Tag:noindex
X-PUBLISHED-TTL:PT1H
BEGIN:VTIMEZONE
TZID:Europe/Warsaw
BEGIN:DAYLIGHT
TZOFFSETFROM:+0100
TZOFFSETTO:+0200
TZNAME:CEST
DTSTART:20180325T010000
END:DAYLIGHT
BEGIN:STANDARD
TZOFFSETFROM:+0200
TZOFFSETTO:+0100
TZNAME:CET
DTSTART:20181028T010000
END:STANDARD
BEGIN:DAYLIGHT
TZOFFSETFROM:+0100
TZOFFSETTO:+0200
TZNAME:CEST
DTSTART:20190331T010000
END:DAYLIGHT
BEGIN:STANDARD
TZOFFSETFROM:+0200
TZOFFSETTO:+0100
TZNAME:CET
DTSTART:20191027T010000
END:STANDARD
BEGIN:DAYLIGHT
TZOFFSETFROM:+0100
TZOFFSETTO:+0200
TZNAME:CEST
DTSTART:20200329T010000
END:DAYLIGHT
BEGIN:STANDARD
TZOFFSETFROM:+0200
TZOFFSETTO:+0100
TZNAME:CET
DTSTART:20201025T010000
END:STANDARD
END:VTIMEZONE
BEGIN:VEVENT
DTSTART;TZID=Europe/Warsaw:20191115T180000
DTEND;TZID=Europe/Warsaw:20191115T200000
DTSTAMP:20260425T173448
CREATED:20191029T135639Z
LAST-MODIFIED:20191029T135639Z
UID:20437-1573840800-1573848000@fundacjadantian.com
SUMMARY:SEKS W WIEKU SENIORALNYM - PRELEKCJA
DESCRIPTION:Zapraszamy na prelekcję\, którą poprowadzi Prof. Piotr Błatej\, dotyczącą seksu w wieku senioralnym. Temat ważny acz często pomijany. Niesłusznie. Wzajemnie zwrotny związek między zdrowiem a seksem jest charakterystyczny dla wieku senioralnego: dobre zdrowie sprzyja aktywności seksualnej a aktywność ta wzmacnia zdrowie. We wcześniejszych okresach życia ta relacja też istnieje\, jednak nie jest tak ścisła\, jak przypadku seniorów. Seks i zdrowie seniorów idą w parze. \nTeza ta może być interpretowana lub rozwijana na różne sposoby: \n·      stan zdrowia warunkuje aktywność seksualną\, \n·      systematyczna aktywność seksualna wzmacnia zdrowie\, \n·      stopień aktywności seksualnej może być traktowany jako behawioralny \n·      wskaźnik zdrowia\, \n·      dbałość o ciało sprzyja zdrowiu i zadowoleniu seksualnemu. \n  \nPiotr Błajet jest profesorem na Wydziale Filozofii i  Nauk Społecznych UMK w Toruniu. Ukończył studia na Akademii Wychowania Fizycznego w Warszawie\, gdzie również obronił pracę doktorską z fizjologii sportu. Stopień doktora habilitowanego uzyskał na Wydziale Nauk Humanistycznych UMK w Toruniu\, a tytuł naukowy profesora w dziedzinie nauk społecznych w 2012 r..\nPrzez blisko 20 lat był trenerem koszykówki w sporcie dzieci i młodzieży oraz sporcie profesjonalnym\, pracował także jako nauczyciele wychowania fizycznego. \nW pracy naukowej podejmuje problematykę z zakresu pedagogiki zdrowia\, pedagogiki ciała\, pedagogiki sportu\, rozwoju człowieka dorosłego\, edukacji integralnej. \nNajważniejsze jego prace: „Ciało jako kategoria pedagogiczna (2006)\, Szkice o wychowaniu agonistycznym (2008)\, Miłość. Rozwój. Wychowanie (2010)\, Od edukacji sportowej do olimpijskiej. Studium antropologiczne (2012)\, (Nie)przypadkowa edukacja (2016)\, Zdrowie i seks seniorów (2018)\, Intymność. Rozwój. Edukacja (2019; jako współautor). \n  \nWstęp wolny. \n 
URL:https://fundacjadantian.com/wydarzenie/seks-w-wieku-senioralnym-prelekcja/
CATEGORIES:Studio Dantian
ATTACH;FMTTYPE=:
END:VEVENT
END:VCALENDAR