BEGIN:VCALENDAR
VERSION:2.0
PRODID:-//Fundacja Dantian - ECPv6.15.20//NONSGML v1.0//EN
CALSCALE:GREGORIAN
METHOD:PUBLISH
X-ORIGINAL-URL:https://fundacjadantian.com
X-WR-CALDESC:Wydarzenia dla Fundacja Dantian
REFRESH-INTERVAL;VALUE=DURATION:PT1H
X-Robots-Tag:noindex
X-PUBLISHED-TTL:PT1H
BEGIN:VTIMEZONE
TZID:Europe/Warsaw
BEGIN:DAYLIGHT
TZOFFSETFROM:+0100
TZOFFSETTO:+0200
TZNAME:CEST
DTSTART:20180325T010000
END:DAYLIGHT
BEGIN:STANDARD
TZOFFSETFROM:+0200
TZOFFSETTO:+0100
TZNAME:CET
DTSTART:20181028T010000
END:STANDARD
BEGIN:DAYLIGHT
TZOFFSETFROM:+0100
TZOFFSETTO:+0200
TZNAME:CEST
DTSTART:20190331T010000
END:DAYLIGHT
BEGIN:STANDARD
TZOFFSETFROM:+0200
TZOFFSETTO:+0100
TZNAME:CET
DTSTART:20191027T010000
END:STANDARD
BEGIN:DAYLIGHT
TZOFFSETFROM:+0100
TZOFFSETTO:+0200
TZNAME:CEST
DTSTART:20200329T010000
END:DAYLIGHT
BEGIN:STANDARD
TZOFFSETFROM:+0200
TZOFFSETTO:+0100
TZNAME:CET
DTSTART:20201025T010000
END:STANDARD
END:VTIMEZONE
BEGIN:VEVENT
DTSTART;TZID=Europe/Warsaw:20191125T164500
DTEND;TZID=Europe/Warsaw:20191125T174500
DTSTAMP:20260425T173444
CREATED:20191121T173007Z
LAST-MODIFIED:20191121T173007Z
UID:20469-1574700300-1574703900@fundacjadantian.com
SUMMARY:Qigong – świadomy ruch i dobra energia! Zajęcia w Studio Dantian
DESCRIPTION:Nigdy za późno na dobrą zabawę i fajny ruch\, dlatego zapraszamy w poniedziałki do Studia Dantian na godzinę 16:45 na zajęcia qigongu! ????\nBędziemy poruszać się świadomie\, lekko\, ale przede wszystkim z wnętrza swojego ciała. Uruchomimy przepływ energii w ciele\, poczujemy wolność i radość!\nRozsmakujmy się w dobrym ruchu – dla zdrowia\, dla sił witalnych i dla siebie. \nCena – 30 zł\nZapisy – studiodantian@gmail.com\nAdres – ul. Słupecka 4
URL:https://fundacjadantian.com/wydarzenie/qigong-swiadomy-ruch-i-dobra-energia-zajecia-w-studio-dantian/2019-11-25/
ATTACH;FMTTYPE=:
END:VEVENT
END:VCALENDAR