BEGIN:VCALENDAR
VERSION:2.0
PRODID:-//Fundacja Dantian - ECPv6.15.20//NONSGML v1.0//EN
CALSCALE:GREGORIAN
METHOD:PUBLISH
X-ORIGINAL-URL:https://fundacjadantian.com
X-WR-CALDESC:Wydarzenia dla Fundacja Dantian
REFRESH-INTERVAL;VALUE=DURATION:PT1H
X-Robots-Tag:noindex
X-PUBLISHED-TTL:PT1H
BEGIN:VTIMEZONE
TZID:Europe/Warsaw
BEGIN:DAYLIGHT
TZOFFSETFROM:+0100
TZOFFSETTO:+0200
TZNAME:CEST
DTSTART:20190331T010000
END:DAYLIGHT
BEGIN:STANDARD
TZOFFSETFROM:+0200
TZOFFSETTO:+0100
TZNAME:CET
DTSTART:20191027T010000
END:STANDARD
BEGIN:DAYLIGHT
TZOFFSETFROM:+0100
TZOFFSETTO:+0200
TZNAME:CEST
DTSTART:20200329T010000
END:DAYLIGHT
BEGIN:STANDARD
TZOFFSETFROM:+0200
TZOFFSETTO:+0100
TZNAME:CET
DTSTART:20201025T010000
END:STANDARD
BEGIN:DAYLIGHT
TZOFFSETFROM:+0100
TZOFFSETTO:+0200
TZNAME:CEST
DTSTART:20210328T010000
END:DAYLIGHT
BEGIN:STANDARD
TZOFFSETFROM:+0200
TZOFFSETTO:+0100
TZNAME:CET
DTSTART:20211031T010000
END:STANDARD
END:VTIMEZONE
BEGIN:VEVENT
DTSTART;TZID=Europe/Warsaw:20200315T150000
DTEND;TZID=Europe/Warsaw:20200315T203000
DTSTAMP:20260425T040811
CREATED:20200227T122754Z
LAST-MODIFIED:20200227T122754Z
UID:20960-1584284400-1584304200@fundacjadantian.com
SUMMARY:PRANA – UMYSŁ I RZECZYWISTOŚĆ POZA UMYSŁEM
DESCRIPTION:Z przykrością zawiadamiamy że nie odbędzie się spotkanie z Profesorem Raghuramji.  \nNiestety koronavirus dotknął negatywnie nasze plany\, Prof Raghuramji nie przyleci do Europy\, \nNiemcy nie wpuszczają mieszkańców z Azji zatem zmuszenie jesteśmy odwołać nasze spotkanie.\n  \nZapraszamy do Studia Dantian na wykład oraz warsztaty naukowe i praktyczne z guru filozofii jogi – z Prof. N.V. Raghuram z SVYASA Yoga University Bangalore! \nTo spotkanie z niezwykłym i cenionym nauczycielem\, dedykowane osobom pragnącym pogłębić swoją wiedzę na temat jogi. \nWykład i warsztaty tłumaczy z języka angielskiego dr Krzysztof Stec – jogin\, naukowiec\, autor książek i publikacji na temat jogi\, miłośnik Indii\, podróżnik. \n〜 HARMONOGRAM WYDARZEŃ 〜 \n???? 15.00 | WYKŁAD PRANA (CHI) 〜 UMYSŁ I RZECZYWISTOŚĆ POZA UMYSŁEM (1\,5 h) \n  \n  \nWiele osób na świecie ćwiczy praktyki związane z CHI (Qi)\, takie jak joga\, która w ostatnich latach zyskała niezwykłą popularność. Jednak niewiele z praktykujących ma wiedzę na temat wzajemnych powiązań chi i jogi oraz tego\, dokąd ostatecznie obie te praktyki mogą nas zaprowadzić jeśli są wykonywane prawidłowo. \nIstota ludzka jest kompleksem składającym się z ciała\, prany\, umysłu oraz świadomości. Wyjątkowe w tych praktykach jest to\, że pomagają nam one przejść od identyfikacji ciała na poziomie fizycznym do subtelnej świadomości (jaźni) głęboko w sobie. W ten sposób możemy korzystać z ciała\, prany i umysłu w bardziej oświecony sposób. \n???? 16.30 | WYSTĘP TANECZNY BHARATANATYAM\, który wykona artystka Shilpa Abhiram z Bangalore (ok. 30 min) \n► Wstęp na wykład i pokaz taneczny wolny!\n► Ilość miejsc ograniczona\, obowiązują zapisy na adres: studiodantian@gmail.com \n???? 17.00 | WARSZTATY 〜 CZĘŚĆ TEORETYCZNA I PRAKTYCZNA (ok 3 – 3\,5 h) \n???? SESJA I \nNiezwykle bliskie praktykom CHI są praktyki pranajamy oraz nieco mniej znane praktyki zwane krijami. Jak je poznać?\nNajlepiej poprzez doświadczenie i jednoczesne wdrożenie ich w życie\, aby mogły na nas bezpośrednio oddziaływać. \nNad tym będziemy pracować podczas pierwszej sesji warsztatów\, które będą równomiernie podzielone na część teoretyczną i ćwiczeniową. \nCzas trwania warsztatów ok. półtorej godziny. \n???? SESJA II \nObecnie rozróżniamy wiele technik medytacyjnych\, a wielu ekspertów próbuje sprawić\, by te sesje medytacji były bardzo mistyczne. Niestety bez odpowiednio wyszkolonego nauczyciela mogą być niebezpieczne. Jak uniknąć tych błędów? \nTu pomocny będzie właściwy sposób prezentacji teorii i mechanizmu medytacji oraz prawidłowo poprowadzona sesja praktyczna – nad czym będziemy koncentrować się podczas drugiej sesji. \nSesja II (wykład i praktyka medytacji) potrwa do półtorej godziny. Będzie zawierać również intonowane oryginalne mantry w sanskrycie\, pochodzące z ponad dziesięciu tysięcy lat! \n► Inwestycja w warsztaty – 150 zł przy zgłoszeniu udziału do środy do 11 marca. W dniu warsztatu cena wynosi – 180 zł \n► Ilość miejsc ograniczona\, obowiązują zapisy na adres: studiodantian@gmail.com \n???? WIĘCEJ O PROF. N.V. RAGHURAM \nProf. N.V. Raghuram jest założycielem i przewodniczącym fundacji Yoga Bharati oraz członkiem rady doradczej Dhruva Management Institute. Uczeń Swamiego Prabhuddhanandy i prof. Satyanarayana Shastri. Filozofię jogi wykładał w krajach Europy\, Azji i w Stanach Zjednoczonych. Od 2003 naucza filozofii jogi w Uniwersytecie Jogi im. Swamiego Vivekanandy w Bangalore\, w Indiach. Za swoją działalność związaną z propagowaniem jogi został odznaczony m.in. nagrodą Yoga Master Padma Vibhusha Dr BKS Iyengar.
URL:https://fundacjadantian.com/wydarzenie/prana-umysl-i-rzeczywistosc-poza-umyslem/
CATEGORIES:Studio Dantian
ATTACH;FMTTYPE=:
END:VEVENT
END:VCALENDAR