BEGIN:VCALENDAR
VERSION:2.0
PRODID:-//Fundacja Dantian - ECPv6.15.20//NONSGML v1.0//EN
CALSCALE:GREGORIAN
METHOD:PUBLISH
X-ORIGINAL-URL:https://fundacjadantian.com
X-WR-CALDESC:Wydarzenia dla Fundacja Dantian
REFRESH-INTERVAL;VALUE=DURATION:PT1H
X-Robots-Tag:noindex
X-PUBLISHED-TTL:PT1H
BEGIN:VTIMEZONE
TZID:Europe/Warsaw
BEGIN:DAYLIGHT
TZOFFSETFROM:+0100
TZOFFSETTO:+0200
TZNAME:CEST
DTSTART:20190331T010000
END:DAYLIGHT
BEGIN:STANDARD
TZOFFSETFROM:+0200
TZOFFSETTO:+0100
TZNAME:CET
DTSTART:20191027T010000
END:STANDARD
BEGIN:DAYLIGHT
TZOFFSETFROM:+0100
TZOFFSETTO:+0200
TZNAME:CEST
DTSTART:20200329T010000
END:DAYLIGHT
BEGIN:STANDARD
TZOFFSETFROM:+0200
TZOFFSETTO:+0100
TZNAME:CET
DTSTART:20201025T010000
END:STANDARD
BEGIN:DAYLIGHT
TZOFFSETFROM:+0100
TZOFFSETTO:+0200
TZNAME:CEST
DTSTART:20210328T010000
END:DAYLIGHT
BEGIN:STANDARD
TZOFFSETFROM:+0200
TZOFFSETTO:+0100
TZNAME:CET
DTSTART:20211031T010000
END:STANDARD
END:VTIMEZONE
BEGIN:VEVENT
DTSTART;TZID=Europe/Warsaw:20200320T180000
DTEND;TZID=Europe/Warsaw:20200320T210000
DTSTAMP:20260425T053929
CREATED:20200301T122637Z
LAST-MODIFIED:20200301T122637Z
UID:20977-1584727200-1584738000@fundacjadantian.com
SUMMARY:POSZUKIWANIE SKARBÓW DLA LENIWYCH ~ WARSZTAT ODWOŁANY
DESCRIPTION:Zapraszamy do Studia Dantian na warsztaty rozwoju osobistego\, które poprowadzi Tomasz Chodkowski (z Poczucie Szczęścia – Tomasz Chodkowski) \nNawiązując do teorii „biologii przekonań” Bruce’a Liptona\, podczas warsztatu będziemy pracować nad tym: \n✔ jak rozpoznawać\, definiować i wykorzystywać własne\, podstawowe zasoby\n✔ jak uważnie obserwować\, rozpoznawać i odczytywać przekonania\n✔ jak przekonania wpływają na zarządzanie życiem \n  \n  \n✔ jak zmieniać przekonania\, by otworzyć możliwości korzystania ze wszystkich\nzasobów\n✔ jak sprawić\, by skarbem stały się rzeczy proste \nKorzyści płynące z warsztatu:\n✔ lepsze poznanie siebie\, tego co nami kieruje i tego co mamy we własnym zasięgu\n✔ sprawniejsze rozpoznawanie i nazywanie zasobów\, umiejętności\, kompetencji\ni przekonań\n✔ poszerzenie wiedzy o mechanizmach funkcjonowania człowieka.\n✔ podniesienie gotowości do rozpoznawania i zmiany własnych przekonań. \n???? Inwestycja – 90 zł\n???? Zapisy na adres: studiodantian@gmail.com\n???? Miejsce: Studio Dantian\, ul. Słupecka 4/37 (Stara Ochota) \nProwadzący warsztaty: \nTomasz Chodkowski – to autor nietypowego poradnika rozwoju osobistego dla osób poszukujących poczucia sensu\, szczęścia\, lepszego rozumienia siebie i otaczającego świata. \nZapraszamy! Przyjdź\, bo warto 🙂
URL:https://fundacjadantian.com/wydarzenie/poszukiwanie-skarbow-dla-leniwych-warsztat/
CATEGORIES:Studio Dantian
ATTACH;FMTTYPE=:
END:VEVENT
END:VCALENDAR