BEGIN:VCALENDAR
VERSION:2.0
PRODID:-//Fundacja Dantian - ECPv6.15.20//NONSGML v1.0//EN
CALSCALE:GREGORIAN
METHOD:PUBLISH
X-ORIGINAL-URL:https://fundacjadantian.com
X-WR-CALDESC:Wydarzenia dla Fundacja Dantian
REFRESH-INTERVAL;VALUE=DURATION:PT1H
X-Robots-Tag:noindex
X-PUBLISHED-TTL:PT1H
BEGIN:VTIMEZONE
TZID:Europe/Warsaw
BEGIN:DAYLIGHT
TZOFFSETFROM:+0100
TZOFFSETTO:+0200
TZNAME:CEST
DTSTART:20190331T010000
END:DAYLIGHT
BEGIN:STANDARD
TZOFFSETFROM:+0200
TZOFFSETTO:+0100
TZNAME:CET
DTSTART:20191027T010000
END:STANDARD
BEGIN:DAYLIGHT
TZOFFSETFROM:+0100
TZOFFSETTO:+0200
TZNAME:CEST
DTSTART:20200329T010000
END:DAYLIGHT
BEGIN:STANDARD
TZOFFSETFROM:+0200
TZOFFSETTO:+0100
TZNAME:CET
DTSTART:20201025T010000
END:STANDARD
BEGIN:DAYLIGHT
TZOFFSETFROM:+0100
TZOFFSETTO:+0200
TZNAME:CEST
DTSTART:20210328T010000
END:DAYLIGHT
BEGIN:STANDARD
TZOFFSETFROM:+0200
TZOFFSETTO:+0100
TZNAME:CET
DTSTART:20211031T010000
END:STANDARD
END:VTIMEZONE
BEGIN:VEVENT
DTSTART;TZID=Europe/Warsaw:20200409T180000
DTEND;TZID=Europe/Warsaw:20200409T200000
DTSTAMP:20260425T053932
CREATED:20200401T161121Z
LAST-MODIFIED:20200401T161121Z
UID:21070-1586455200-1586462400@fundacjadantian.com
SUMMARY:ŻYJ KREATYWNIE! – WARSZTAT URODZINOWY MAYI ROSTKOWSKIEJ
DESCRIPTION:SPOKOJNY UMYSŁ – CO MA WSPÓLNEGO Z KREATYWNOŚCIĄ?\n„Gdy nabierasz wody z rzeki\, to ona dostaje się do kubka z mułem. Poczekaj\, aż opadnie\, a zobaczysz czystą wodę – wtedy możesz tworzyć” \nŻyj kreatywnie\, czyli połącz niekonwencjonalnych kilka rzeczy\, które dotąd razem nie istniały\, np. użyj spiruliny\, którą dodajesz do zdrowych koktajli\, jako farby do malowania lub świeżo zaparzonej kawy. Uszyj notatnik\, dziennik i opraw go w krawat lub skórę kupioną w secondhandzie. Zrób kolaż z kolorowych gazet\, które znalazłaś przy śmietniku. Zmontuj film w nowym programie\, który znajdziesz w sieci. Baw się! Nie ma limitów\, jedynie ogranicza Cię czas\, ale na to też mamy rozwiązanie. \nJeśli masz 4 minuty\, tak jak ja przed wyjściem na trening\, możesz napisać 10 zdań do swojej nowej powieści. \nPODCZAS SPOTKANIA OPOWIEM\, JAK TO ROBIĘ.\nDowiecie się ode mnie\, jak ćwiczenie miecza\, kija i szabli\, pozwoliło mi stać się bardziej kreatywną osobą. Czyli jak oczyszczam swój umysł\, aby napełnił się ponownie. Czym i jak się inspiruję. O co chodzi z codzienną dyscypliną i czy aby na pewno jest potrzebna w kreatywności. \nI o najważniejszym – czyli jak przebudzić się do życia\, żeby nam się chciało! \nW dniu swoich 37 urodzin postanowiłam zorganizować dla Was zamiast przyjęcia te warsztaty\, które prowadzę przez większość swojego życia. Dotyczą one sztuki\, jak i świadomego ruchu.\nWiedza\, którą przekazuje\, jest poparta doświadczeniem i praktyką. Wszystko\, czego się dowiecie\, przetestowałam sama na sobie. \nKilka przykładów kreacji: \nInstagram: @atielierilustracji\nInstagram: @atielierwyobrazni\nInstagram: @maya_taiji \nBlog: https://ludzieztatuazami.blogspot.com \nJAK WZIĄĆ UDZIAŁ W WARSZTACIE ONLINE?\nUczestnictwo – 19 zł \n\nFormą zapisu jest przelew w wysokości 19 zł o tytule: ŻYJ KREATYWNIE\, na konto Fundacji Dantian – Bank PKO SA\, nr konta 06 1240 6218 1111 0010 7770 4082\nPo wykonaniu przelewu\, prześlij potwierdzenie na e-mail: studiodantian@gmail.com\nOtrzymasz e-mail zwrotny z zaproszeniem do wirtualnej platformy\, na której odbędzie się spotkanie\n\nUwaga! Zapisy i płatności przyjmujemy do 8 kwietnia dnia do godz. 15.00 \nCZAS I MIEJSCE SPOTKANIA?\n\nCzas trwania – 1 godzina. Spotykamy się o godzinie 18.00 ONLINE na platformie ZOOM.\nPobierz na komputer lub telefon bezpłatną aplikację ZOOM: https://zoom.us/join\nNa godzinę przed spotkaniem otrzymasz od nas mail z linkiem do pokoju oraz ID i hasło do zalogowania się na wydarzenie\n\nSerdecznie zapraszam! \nPROWADZĄCA\nMaya Rostkowska – ilustratorka\, scenograf\, graficzka\, pasjonatka taiji i qigongu. Regularnie pisząca i realizująca małe formy filmowe. \n\n+ KALENDARZ GOOGLE
URL:https://fundacjadantian.com/wydarzenie/zyj-kreatywnie-warsztat-urodzinowy-mayi-rostkowskiej/
CATEGORIES:Studio Dantian
ATTACH;FMTTYPE=:
END:VEVENT
END:VCALENDAR