BEGIN:VCALENDAR
VERSION:2.0
PRODID:-//Fundacja Dantian - ECPv6.15.20//NONSGML v1.0//EN
CALSCALE:GREGORIAN
METHOD:PUBLISH
X-WR-CALNAME:Fundacja Dantian
X-ORIGINAL-URL:https://fundacjadantian.com
X-WR-CALDESC:Wydarzenia dla Fundacja Dantian
REFRESH-INTERVAL;VALUE=DURATION:PT1H
X-Robots-Tag:noindex
X-PUBLISHED-TTL:PT1H
BEGIN:VTIMEZONE
TZID:Europe/Warsaw
BEGIN:DAYLIGHT
TZOFFSETFROM:+0100
TZOFFSETTO:+0200
TZNAME:CEST
DTSTART:20190331T010000
END:DAYLIGHT
BEGIN:STANDARD
TZOFFSETFROM:+0200
TZOFFSETTO:+0100
TZNAME:CET
DTSTART:20191027T010000
END:STANDARD
BEGIN:DAYLIGHT
TZOFFSETFROM:+0100
TZOFFSETTO:+0200
TZNAME:CEST
DTSTART:20200329T010000
END:DAYLIGHT
BEGIN:STANDARD
TZOFFSETFROM:+0200
TZOFFSETTO:+0100
TZNAME:CET
DTSTART:20201025T010000
END:STANDARD
BEGIN:DAYLIGHT
TZOFFSETFROM:+0100
TZOFFSETTO:+0200
TZNAME:CEST
DTSTART:20210328T010000
END:DAYLIGHT
BEGIN:STANDARD
TZOFFSETFROM:+0200
TZOFFSETTO:+0100
TZNAME:CET
DTSTART:20211031T010000
END:STANDARD
END:VTIMEZONE
BEGIN:VEVENT
DTSTART;TZID=Europe/Warsaw:20200414T180000
DTEND;TZID=Europe/Warsaw:20200414T200000
DTSTAMP:20260424T213250
CREATED:20200406T093826Z
LAST-MODIFIED:20200406T093826Z
UID:21079-1586887200-1586894400@fundacjadantian.com
SUMMARY:ONLINE: TERAPIA WISCERALNA WG OGUŁOWA
DESCRIPTION:Zapraszamy 14 kwietnia na prelekcję online dotyczącą terapii wisceralnej wg Ogułowa\, którą poprowadzi Marta Pawełek-Dukaczewska \nTerapia wisceralna wg Ogułowa to naturalna metoda regulacji i przywracania zaburzonych funkcji narządów\, podnoszenia poziomu energii\, usuwania traum i napięć emocjonalnych oraz poprawy ogólnego stanu zdrowia. \nBiorąc udział w prelekcji dowiesz się: \n⭕️ Czym jest terapia wisceralna i jakie towarzyszą jej techniki uzupełniające?\n⭕️ Dlaczego warto dbać o stan naszych trzewi?\n⭕️ Jak wygląda zabieg?\n⭕ Jakie mogą być wskazania i przeciwskazania do masażu trzewnego\n⭕️ Jakich efektów możemy spodziewać?\n⭕️ Jakie są przyczyny napięć i zastojów w trzewiach oraz innych tkankach oraz jakie są metody ich niwelowania (ujęcie starosłowiańskie oraz wg pięciu elementów)? \nW części praktycznej poznasz podstawy delikatnego automasażu trzewi oraz technik wspomagających. \nProwadząca prelekcję: \nMarta Pawełek-Dukaczewska – dyplomowana terapeutka wisceralna\, wg metody Ogułowa \, coach żywieniowa\, nieustannie rozwijająca swoje umiejętności w zakresie profilaktycznej i leczniczej dietetyki chińskiej\, praktycznego ziołolecznictwa oraz holistycznego podejścia do zdrowia. Z wykształcenia andragog\, zafascynowana psychologią\, psychosomatyką\, wpływem nieuświadamianych mechanizmów emocjonalnych na nasze zdrowie. Z pasji gotuje wg metody 5 przemian\, twórczyni wielu autorskich przepisów kulinarnych\, szerząca ideę slowlife i świadomego kształtowania zdrowia poprzez zmianę myślenia oraz szkodliwych nawyków\, nie tylko żywieniowych. \n⭕️ Jak wziąć udział w warsztacie ONLINE? \nUczestnictwo – 19 zł \n1️⃣ Formą zapisu jest przelew w wysokości 19 zł o tytule: TERAPIA WISCERALNA\, na konto Fundacji Dantian – Bank PKO SA\, nr konta 06 1240 6218 1111 0010 7770 4082 \n2️⃣ Po wykonaniu przelewu\, prześlij potwierdzenie na e-mail: studiodantian@gmail.com\nPamiętaj\, że wysyłany prosto z banku przelew nie ma adresata czyli ciebie\, więc prosimy o mail\, abyśmy mogli przesłać link. \n3️⃣ Otrzymasz e-mail zwrotny z zaproszeniem do wirtualnej platformy\, na której odbędzie się spotkanie \n❗️Uwaga! Zapisy i płatności przyjmujemy do 14 kwietnia dnia do godz. 15.00 \n⭕️ Czas i miejsce spotkania? \n???? Czas trwania – 1 godzina. Spotykamy się o godzinie 18.00 ONLINE na platformie ZOOM. \n???? Pobierz na komputer lub telefon bezpłatną aplikację ZOOM: https://zoom.us/join \n???? Na godzinę przed spotkaniem otrzymasz od nas mail z linkiem do pokoju oraz ID i hasło do zalogowania się na wydarzenie
URL:https://fundacjadantian.com/wydarzenie/online-terapia-wisceralna-wg-ogulowa/
CATEGORIES:Studio Dantian
ATTACH;FMTTYPE=:
END:VEVENT
END:VCALENDAR