BEGIN:VCALENDAR
VERSION:2.0
PRODID:-//Fundacja Dantian - ECPv6.15.20//NONSGML v1.0//EN
CALSCALE:GREGORIAN
METHOD:PUBLISH
X-ORIGINAL-URL:https://fundacjadantian.com
X-WR-CALDESC:Wydarzenia dla Fundacja Dantian
REFRESH-INTERVAL;VALUE=DURATION:PT1H
X-Robots-Tag:noindex
X-PUBLISHED-TTL:PT1H
BEGIN:VTIMEZONE
TZID:Europe/Warsaw
BEGIN:DAYLIGHT
TZOFFSETFROM:+0100
TZOFFSETTO:+0200
TZNAME:CEST
DTSTART:20190331T010000
END:DAYLIGHT
BEGIN:STANDARD
TZOFFSETFROM:+0200
TZOFFSETTO:+0100
TZNAME:CET
DTSTART:20191027T010000
END:STANDARD
BEGIN:DAYLIGHT
TZOFFSETFROM:+0100
TZOFFSETTO:+0200
TZNAME:CEST
DTSTART:20200329T010000
END:DAYLIGHT
BEGIN:STANDARD
TZOFFSETFROM:+0200
TZOFFSETTO:+0100
TZNAME:CET
DTSTART:20201025T010000
END:STANDARD
BEGIN:DAYLIGHT
TZOFFSETFROM:+0100
TZOFFSETTO:+0200
TZNAME:CEST
DTSTART:20210328T010000
END:DAYLIGHT
BEGIN:STANDARD
TZOFFSETFROM:+0200
TZOFFSETTO:+0100
TZNAME:CET
DTSTART:20211031T010000
END:STANDARD
END:VTIMEZONE
BEGIN:VEVENT
DTSTART;TZID=Europe/Warsaw:20200415T180000
DTEND;TZID=Europe/Warsaw:20200415T193000
DTSTAMP:20260424T095345
CREATED:20200404T133258Z
LAST-MODIFIED:20200404T133258Z
UID:21076-1586973600-1586979000@fundacjadantian.com
SUMMARY:ONLINE: ZDROWY ODDECH Z METODĄ BUTEJKI
DESCRIPTION:✋ Zatrzymaj się na chwilę\, żeby przyjrzeć się z u ważnością swojemu oddechowi\, odczuwając\, jak ta potężna siła życiowa nieustannie łączy to\, co jest\, wewnątrz Ciebie z tym\, co Cię otacza\, wszystko\, co robimy i czym jesteśmy\, zależy od naszego oddechu nasza kondycja i odporność zarówno ta fizyczna\, jak i psychiczna… więc \n⭕️ Naucz się oddychać tak\, by Twój oddech pomagał\, Ci mieć więcej energii i sił witalnych\n⭕️ Naucz się jak uspokoić umysł\, rozluźnić ciało\, obniżyć ciśnienie krwi i dobrze wypoczywać we śnie. \n⭕️ Czy wiesz\, że stres\, ataki paniki\, niepokój\, problemy z koncentracją\, ciągłe zmęczenie\, zadyszka\, chrapanie\, astma\, alergie\, nieżyt nosa\, zależą od TWOJEGO ODDECHU \n???? Zapraszam cię na wyprawę po oddech lekki jak piórko\, który doda Ci skrzydeł i poprawi Twoją wydolność oddechową.\nInformacje czy oddychanie przez nos może ustrzec nas przed wirusem: https://butejko.pl/koronawirus-oddychanie-przez-nos-najlepsza-ochrona/ \n???? MAŁGORZATA BOCHIŃSKA – Jest instruktorem metody biegania ChiRunning\, metody oddechowej Butejki i tlenowej Przewagi Patryka Mc Keown. \n⭕️ Jak wziąć udział w warsztacie ONLINE? \nUczestnictwo – 19 zł \n1️⃣ Formą zapisu jest przelew w wysokości 19 zł o tytule: ZDROWY ODDECH z Metodą Butejki\, na konto Fundacji Dantian – Bank PKO SA\, nr konta 06 1240 6218 1111 0010 7770 4082 \n2️⃣ Po wykonaniu przelewu\, prześlij potwierdzenie na e-mail: studiodantian@gmail.com \nUwaga! Jeśli przesyłacie potwierdzenie bezpośrednio za pomocą strony waszego banku\, pamiętajcie napisać do nas\, potrzebujemy wasz email\, żeby móc wysłać wam zaproszenie do wirtualnego pokoju \n3️⃣ Otrzymasz e-mail zwrotny z zaproszeniem do wirtualnej platformy\, na której odbędzie się spotkanie \n❗️Uwaga! Zapisy i płatności przyjmujemy do 15 kwietnia dnia do godz. 16.00 \n⭕️ Czas i miejsce spotkania? \n???? Czas trwania – 1 godzina. Spotykamy się o godzinie 18.00 ONLINE na platformie ZOOM. \n???? Pobierz na komputer lub telefon bezpłatną aplikację ZOOM: https://zoom.us/join \n???? Na godzinę przed spotkaniem otrzymasz od nas mail z linkiem do pokoju oraz ID i hasło do zalogowania się na wydarzenie
URL:https://fundacjadantian.com/wydarzenie/online-zdrowy-oddech-z-metoda-butejki/
CATEGORIES:Studio Dantian
ATTACH;FMTTYPE=:
END:VEVENT
END:VCALENDAR