BEGIN:VCALENDAR
VERSION:2.0
PRODID:-//Fundacja Dantian - ECPv6.15.20//NONSGML v1.0//EN
CALSCALE:GREGORIAN
METHOD:PUBLISH
X-WR-CALNAME:Fundacja Dantian
X-ORIGINAL-URL:https://fundacjadantian.com
X-WR-CALDESC:Wydarzenia dla Fundacja Dantian
REFRESH-INTERVAL;VALUE=DURATION:PT1H
X-Robots-Tag:noindex
X-PUBLISHED-TTL:PT1H
BEGIN:VTIMEZONE
TZID:Europe/Warsaw
BEGIN:DAYLIGHT
TZOFFSETFROM:+0100
TZOFFSETTO:+0200
TZNAME:CEST
DTSTART:20190331T010000
END:DAYLIGHT
BEGIN:STANDARD
TZOFFSETFROM:+0200
TZOFFSETTO:+0100
TZNAME:CET
DTSTART:20191027T010000
END:STANDARD
BEGIN:DAYLIGHT
TZOFFSETFROM:+0100
TZOFFSETTO:+0200
TZNAME:CEST
DTSTART:20200329T010000
END:DAYLIGHT
BEGIN:STANDARD
TZOFFSETFROM:+0200
TZOFFSETTO:+0100
TZNAME:CET
DTSTART:20201025T010000
END:STANDARD
BEGIN:DAYLIGHT
TZOFFSETFROM:+0100
TZOFFSETTO:+0200
TZNAME:CEST
DTSTART:20210328T010000
END:DAYLIGHT
BEGIN:STANDARD
TZOFFSETFROM:+0200
TZOFFSETTO:+0100
TZNAME:CET
DTSTART:20211031T010000
END:STANDARD
END:VTIMEZONE
BEGIN:VEVENT
DTSTART;TZID=Europe/Warsaw:20200502T110000
DTEND;TZID=Europe/Warsaw:20200502T120000
DTSTAMP:20260425T021743
CREATED:20200429T164258Z
LAST-MODIFIED:20200429T164258Z
UID:21412-1588417200-1588420800@fundacjadantian.com
SUMMARY:WARSZTAT LIFTINGUJĄCEGO AUTOMASAŻU TWARZY
DESCRIPTION:Zapraszamy 2 maja o godz. 11.00 na warsztat liftingującego automasażu twarzy: Wymasuj piękno! Wmasuj zdrowie! Spotkanie odbędzie się online na platformie ZOOM. Warsztat poprowadzi dla nas Teresa Spitulska\n\n\nLIFTINGUJĄCY AUTOMASAŻ TWARZY\nJeżeli masz poczucie\, że Twojej twarzy przydałoby się trochę więcej blasku\, energii i pozytywnego „uniesienia”\, a głowie lekkości i beztroski\, to zapraszam Cię do wzięcia spraw w swoje ręce i wymasowania swojej buzi! Moment\, w którym więcej przebywamy w domu\, mamy sposobność zwolnić\, wsłuchać się w rytm swojego organizmu i emocji\,  jest wyjątkową okazją do tworzenia nowych\, służących Tobie nawyków oraz docenienia magii dotyk. \nW ramach warsztatu opowiem o tym\, jak w domowych warunkach\, wykorzystać potencjał naszych rąk\, zregenerować\, odmłodzić i zrelaksować twarz\, wykorzystując  bardzo proste\, niezwykle skuteczne techniki automasażu. \nKilka określonych\, starannych ruchów każdego dnia spłyci zmarszczki\, zmniejszy podbródek\, podniesie owal\, pomoże zwalczyć cienie i worki pod oczami. Wytłumaczę też dlaczego masaż twarzy jest ważny\, i może dodać nam nie tylko urody ale i zdrowia! \n  \nWszystko po to\, by podobać się samej sobie i czuć się dobrze ☺ \nDo zobaczenia 2 Maja @ 11.00! \nTeresa LomiTangere \nJAK WZIĄĆ UDZIAŁ W SPOTKANIU ONLINE?\nInwestycja – 19 zł \n\nFormą zapisu jest przelew w wysokości 19 zł o tytule: WYMASUJ PIĘKNO na konto Fundacji Dantian – Bank PKO SA\, nr konta: 06 1240 6218 1111 0010 7770 4082\nPo wykonaniu przelewu\, prześlij nam potwierdzenie na email: studiodantian@gmail.com. Pamiętaj\, że wysyłany prosto z banku przelew nie ma adresata czyli ciebie\, więc prosimy o mail\, abyśmy mogli przesłać link.\nDostaniesz od nas email zwrotny z zaproszeniem do wirtualnej platformy\, na której odbędzie się wykład\n\nUwaga! Zapisy i płatności przyjmujemy do 1 maja do godz. 15.00 \nCZAS I MIEJSCE SPOTKANIA?\n\nSpotykamy się o 2 maja o godzinie 11.00 ONLINE na platformie ZOOM. Czas trwania – ok. 1 godziny.\nWcześniej pobierz na komputer lub telefon bezpłatną aplikację ZOOM https://zoom.us/join\nNa godzinę przed spotkaniem otrzymasz od nas mail z linkiem do pokoju oraz ID i hasło do zalogowania się na wydarzenie\n\n  \nPROWADZĄCA:\nTeresa Spitulska \nJestem dyplomowaną masażystka z 4 letnim doświadczeniem. Specjalizuję się w Manualnej Terapii Twarzy – Facemodeling\, Japońskim Liftingu Twarzy  metodą Kobido\, masażu Gua Sha. Zrelaksowana i piękna twarz jest efektem spokojnego i szczęśliwego ducha\, zrelaksowanego i zdrowego ciała\,  dlatego praktykuję holistyczną pracę poprzez Lomi Lomi Nui\, Hawajski Masaż Terapuetyczny. Prowadzę warsztaty relaksacyjne z tańca intuicyjnego\, technik oddychania\, oraz świadomej pracy poprzez ciało. W swojej pracy pozostaje blisko emocji i ich zapisu w ciele. Zgłębiając ten temat szkolę się w zawodzie terapeuty w nurcie Leban/Bartenieff Movement System (LBMS) i Terapii Tańcem i Ruchem (DMT).  Pasjonują mnie góry\, przyroda i medytacja w ruchu. \n 
URL:https://fundacjadantian.com/wydarzenie/warsztat-liftingujacego-automasazu-twarzy/
CATEGORIES:Studio Dantian
END:VEVENT
END:VCALENDAR