BEGIN:VCALENDAR
VERSION:2.0
PRODID:-//Fundacja Dantian - ECPv6.15.20//NONSGML v1.0//EN
CALSCALE:GREGORIAN
METHOD:PUBLISH
X-WR-CALNAME:Fundacja Dantian
X-ORIGINAL-URL:https://fundacjadantian.com
X-WR-CALDESC:Wydarzenia dla Fundacja Dantian
REFRESH-INTERVAL;VALUE=DURATION:PT1H
X-Robots-Tag:noindex
X-PUBLISHED-TTL:PT1H
BEGIN:VTIMEZONE
TZID:Europe/Warsaw
BEGIN:DAYLIGHT
TZOFFSETFROM:+0100
TZOFFSETTO:+0200
TZNAME:CEST
DTSTART:20190331T010000
END:DAYLIGHT
BEGIN:STANDARD
TZOFFSETFROM:+0200
TZOFFSETTO:+0100
TZNAME:CET
DTSTART:20191027T010000
END:STANDARD
BEGIN:DAYLIGHT
TZOFFSETFROM:+0100
TZOFFSETTO:+0200
TZNAME:CEST
DTSTART:20200329T010000
END:DAYLIGHT
BEGIN:STANDARD
TZOFFSETFROM:+0200
TZOFFSETTO:+0100
TZNAME:CET
DTSTART:20201025T010000
END:STANDARD
BEGIN:DAYLIGHT
TZOFFSETFROM:+0100
TZOFFSETTO:+0200
TZNAME:CEST
DTSTART:20210328T010000
END:DAYLIGHT
BEGIN:STANDARD
TZOFFSETFROM:+0200
TZOFFSETTO:+0100
TZNAME:CET
DTSTART:20211031T010000
END:STANDARD
END:VTIMEZONE
BEGIN:VEVENT
DTSTART;TZID=Europe/Warsaw:20200509T180000
DTEND;TZID=Europe/Warsaw:20200509T190000
DTSTAMP:20260424T230313
CREATED:20200429T161547Z
LAST-MODIFIED:20200429T161547Z
UID:21410-1589047200-1589050800@fundacjadantian.com
SUMMARY:TANTRYCZNA PRACA Z CIAŁEM 〜 SPOTKANIE ONLINE
DESCRIPTION:Wokół masaży tantrycznych krąży wiele niedomówień\, uprzedzeń\, mitów i obaw. Jeśli masz ochotę przekonać się\, jak to właściwie jest\, zapraszamy Cię 9 maja o godz. 18.00 do Studia Dantian Online na spotkanie dotyczące tantrycznej pracy z ciałem\, które poprowadzi Agata Kawecka /Love-Courage-Trust/.\n\nTANTRYCZNA PRACA Z CIAŁEM\n\nPodczas spotkania dowiesz się:\n\n\nco to jest masaż tantryczny / tantryczna praca z ciałem\nco odróżnia go od innych masaży\nco zawiera sesja tego typu pracy i jaki może być jej przebieg (obawy\, oczekiwania\, potrzeby\, granice)\ndla kogo jest tantryczna praca z ciałem\nw jaki sposób może być pomocna w przypadku problemów seksualnych\njak przyjmować masaż tantryczny (co to znaczy aktywne przyjmowanie)\njak wpływa na nas masaż tantryczny\, jakie wartości może wnieść do naszego codziennego życia\nczym różni się masaż Kaszmirski od masażu Tańczącego Węża\nco to jest masaż Yoni i jaki może mieć wpływ na kobiecą orgazmiczność\nco to jest uzdrawianie seksualne.\n\n\nBędzie także miejsce na zadawanie pytań.\n\n\nJAK WZIĄĆ UDZIAŁ W SPOTKANIU ONLINE?\nInwestycja – 19 zł \n\nFormą zapisu jest przelew w wysokości 19 zł o tytule: TANTRYCZNA PRACA Z CIAŁEM na konto Fundacji Dantian – Bank PKO SA\, nr konta: 06 1240 6218 1111 0010 7770 4082\nPo wykonaniu przelewu\, prześlij nam potwierdzenie na email: studiodantian@gmail.com. Pamiętaj\, że wysyłany prosto z banku przelew nie ma adresata czyli ciebie\, więc prosimy o mail\, abyśmy mogli przesłać link.\nDostaniesz od nas email zwrotny z zaproszeniem do wirtualnej platformy\, na której odbędzie się wykład\n\nUwaga! Zapisy i płatności przyjmujemy do 9 maja do godz. 15.00 \nCZAS I MIEJSCE SPOTKANIA?\n\nSpotykamy się 9 maja o godzinie 18.00 ONLINE na platformie ZOOM. Czas trwania – ok. 1 godziny.\nWcześniej pobierz na komputer lub telefon bezpłatną aplikację ZOOM https://zoom.us/join\nNa godzinę przed spotkaniem otrzymasz od nas mail z linkiem do pokoju oraz ID i hasło do zalogowania się na wydarzenie\n\n  \nPROWADZĄCA:\n\nAgata Kawecka /Love-Courage-Trust/: \nPodążam ścieżką dotyku zauroczona jego uzdrawiającą / transformującą mocą. Wszyscy nią dysponujemy\, jednak rzadko mamy tę świadomość\, a jeszcze rzadziej zdarza nam się z niej korzystać. Moją intencją jest towarzyszenie kobietom i mężczyznom podczas ich spotkania z własnym ciałem. Pragnę wspomagać ich w drodze do przywrócenia czucia\, przepływu i czułości dla siebie. W swoich sesjach łączę różne techniki\, pracując także z energią seksualną.\nOferuję sesje rozbrajania ciała i sesje tantryczne w tym wielogodzinne masaże całego ciała\, które wspierają wejście w lepszy kontakt z naszym cielesnym “ja”\, są głęboko relaksujące\, każda część ciała jest zaopiekowana\, dotknięta z szacunkiem i uwagą\, jakiej często nam brakuje. \nPrzyjdź do mnie bez koncepcji\, z otwartą głową; puść kontrolę\, puść wstyd\, puść przekonania – a przynajmniej miej taką intencję.\n\nhttps://tinyurl.com/L-C-T-aboutme
URL:https://fundacjadantian.com/wydarzenie/tantryczna-praca-z-cialem-%e3%80%9c-spotkanie-online/
CATEGORIES:Studio Dantian
END:VEVENT
END:VCALENDAR