BEGIN:VCALENDAR
VERSION:2.0
PRODID:-//Fundacja Dantian - ECPv6.15.20//NONSGML v1.0//EN
CALSCALE:GREGORIAN
METHOD:PUBLISH
X-WR-CALNAME:Fundacja Dantian
X-ORIGINAL-URL:https://fundacjadantian.com
X-WR-CALDESC:Wydarzenia dla Fundacja Dantian
REFRESH-INTERVAL;VALUE=DURATION:PT1H
X-Robots-Tag:noindex
X-PUBLISHED-TTL:PT1H
BEGIN:VTIMEZONE
TZID:Europe/Warsaw
BEGIN:DAYLIGHT
TZOFFSETFROM:+0100
TZOFFSETTO:+0200
TZNAME:CEST
DTSTART:20190331T010000
END:DAYLIGHT
BEGIN:STANDARD
TZOFFSETFROM:+0200
TZOFFSETTO:+0100
TZNAME:CET
DTSTART:20191027T010000
END:STANDARD
BEGIN:DAYLIGHT
TZOFFSETFROM:+0100
TZOFFSETTO:+0200
TZNAME:CEST
DTSTART:20200329T010000
END:DAYLIGHT
BEGIN:STANDARD
TZOFFSETFROM:+0200
TZOFFSETTO:+0100
TZNAME:CET
DTSTART:20201025T010000
END:STANDARD
BEGIN:DAYLIGHT
TZOFFSETFROM:+0100
TZOFFSETTO:+0200
TZNAME:CEST
DTSTART:20210328T010000
END:DAYLIGHT
BEGIN:STANDARD
TZOFFSETFROM:+0200
TZOFFSETTO:+0100
TZNAME:CET
DTSTART:20211031T010000
END:STANDARD
END:VTIMEZONE
BEGIN:VEVENT
DTSTART;TZID=Europe/Warsaw:20200907T190000
DTEND;TZID=Europe/Warsaw:20200907T203000
DTSTAMP:20260425T173447
CREATED:20200826T074809Z
LAST-MODIFIED:20200826T074809Z
UID:21932-1599505200-1599510600@fundacjadantian.com
SUMMARY:Qigong na Goldoniego 1
DESCRIPTION:Serdecznie zapraszamy na zajęcia Qigongu do Bielańskiego Ośrodka Kultury przy ul. Goldoniego 1\, w poniedziałki od 19.00 do 20.30 \nZabierzcie wygodne stroje\, obuwie na płaskiej podeszwie oraz dobry nastrój 🙂
URL:https://fundacjadantian.com/wydarzenie/qigong-na-goldoniego/2020-09-07/
END:VEVENT
END:VCALENDAR