BEGIN:VCALENDAR
VERSION:2.0
PRODID:-//Fundacja Dantian - ECPv6.15.20//NONSGML v1.0//EN
CALSCALE:GREGORIAN
METHOD:PUBLISH
X-WR-CALNAME:Fundacja Dantian
X-ORIGINAL-URL:https://fundacjadantian.com
X-WR-CALDESC:Wydarzenia dla Fundacja Dantian
REFRESH-INTERVAL;VALUE=DURATION:PT1H
X-Robots-Tag:noindex
X-PUBLISHED-TTL:PT1H
BEGIN:VTIMEZONE
TZID:Europe/Warsaw
BEGIN:DAYLIGHT
TZOFFSETFROM:+0100
TZOFFSETTO:+0200
TZNAME:CEST
DTSTART:20190331T010000
END:DAYLIGHT
BEGIN:STANDARD
TZOFFSETFROM:+0200
TZOFFSETTO:+0100
TZNAME:CET
DTSTART:20191027T010000
END:STANDARD
BEGIN:DAYLIGHT
TZOFFSETFROM:+0100
TZOFFSETTO:+0200
TZNAME:CEST
DTSTART:20200329T010000
END:DAYLIGHT
BEGIN:STANDARD
TZOFFSETFROM:+0200
TZOFFSETTO:+0100
TZNAME:CET
DTSTART:20201025T010000
END:STANDARD
BEGIN:DAYLIGHT
TZOFFSETFROM:+0100
TZOFFSETTO:+0200
TZNAME:CEST
DTSTART:20210328T010000
END:DAYLIGHT
BEGIN:STANDARD
TZOFFSETFROM:+0200
TZOFFSETTO:+0100
TZNAME:CET
DTSTART:20211031T010000
END:STANDARD
END:VTIMEZONE
BEGIN:VEVENT
DTSTART;TZID=Europe/Warsaw:20201005T180000
DTEND;TZID=Europe/Warsaw:20201005T190000
DTSTAMP:20260425T204723
CREATED:20200904T111955Z
LAST-MODIFIED:20200904T111955Z
UID:22185-1601920800-1601924400@fundacjadantian.com
SUMMARY:Qigong w MAiP - wątroba
DESCRIPTION:Wiesz\, że Wątroba odgrywa decydującą rolę w metabolizmie ? W ciągu minuty filtruje 2 litry krwi a w ciągu całego dnia wydziela jeden litr żółci do jelit\, neutralizuje toksyny\, produkuje hormony\, odżywia mięśnie i mózg\, reguluje również poziom cukru we krwi. \nW medycynie chińskiej ciało jest porównywane do królestwa\, w którym organy zajmują ważne stanowiska. Na przykład: serce jest Cesarzem\, a wątroba jest Generałem. I jako Generał zarządza naszym całym organizmem i decyduje kiedy i jakie hormony uwolnić do krwi. Ma również wpływ na zdolność organizmu do odpierania inwazji napastników z zewnątrz i jeśli nie jest wystarczająco czujna\, wrogowie są w stanie dotrzeć do wnętrza i spowodować chorobę. To porównanie pokazuje\, że Wątroba jest kluczowym organem\, który ma ogromny wpływ na nasze zdrowie.  \nWątrobie przypisuje się takie emocje jak gniew\, żal i smutek. Usuwanie energii złości z wątroby będziemy robić na kilka sposobów\, od chodzenia jak tygrysy i wysuwania naenergetyzowanych pazurów\, po spoglądanie do tyłu na księżyc jak mądra sowa – ćwicząc przy tym równocześnie energię wzroku.  \n???? PO CO ĆWICZYMY QIGONG? Aby zachować zdrowie i spokojny umysł. Pamiętajmy\, że to właśnie qigong pozwala zapewnić elastyczność i siłę naszego organizmu. Systematyczne ćwiczenia wzmacniają i regulują pracę narządów wewnętrznych\, układu nerwowego i układu odpornościowego\, łagodzą bóle\, regulują hormony\, zmniejszają stres i uwalniają emocje.  \n????  CZAS I MIEJSCE SPOTKANIA? \nPoniedziałek\, 5 października o godz. 18.00\, w Muzeum Azji i Pacyfiku\, ul. Solec 24.    \n????  JAK SIĘ PRZYGOTOWAĆ? \nNa zajęciach ćwiczymy w wygodnym\, nieograniczającym ruchu ubraniu. Płaskie\, sportowe buty. \n???? Udział w pojedynczych zajęciach – 30 zł \nDołącz do nas\, dla balansu\, dla harmonii\, dla zdrowia!  \nZabierz wygodne ubrania\, buty na płaskiej podeszwie i coś do picia 🙂 \n  \n 
URL:https://fundacjadantian.com/wydarzenie/qigong-w-maip-2020-10-05/
CATEGORIES:Qigong - MAiP
ATTACH;FMTTYPE=image/jpeg:https://fundacjadantian.com/wp-content/uploads/2018/04/Wiosenny-triathlon-qigongu_2.jpg
END:VEVENT
END:VCALENDAR