BEGIN:VCALENDAR
VERSION:2.0
PRODID:-//Fundacja Dantian - ECPv6.15.20//NONSGML v1.0//EN
CALSCALE:GREGORIAN
METHOD:PUBLISH
X-WR-CALNAME:Fundacja Dantian
X-ORIGINAL-URL:https://fundacjadantian.com
X-WR-CALDESC:Wydarzenia dla Fundacja Dantian
REFRESH-INTERVAL;VALUE=DURATION:PT1H
X-Robots-Tag:noindex
X-PUBLISHED-TTL:PT1H
BEGIN:VTIMEZONE
TZID:Europe/Warsaw
BEGIN:DAYLIGHT
TZOFFSETFROM:+0100
TZOFFSETTO:+0200
TZNAME:CEST
DTSTART:20190331T010000
END:DAYLIGHT
BEGIN:STANDARD
TZOFFSETFROM:+0200
TZOFFSETTO:+0100
TZNAME:CET
DTSTART:20191027T010000
END:STANDARD
BEGIN:DAYLIGHT
TZOFFSETFROM:+0100
TZOFFSETTO:+0200
TZNAME:CEST
DTSTART:20200329T010000
END:DAYLIGHT
BEGIN:STANDARD
TZOFFSETFROM:+0200
TZOFFSETTO:+0100
TZNAME:CET
DTSTART:20201025T010000
END:STANDARD
BEGIN:DAYLIGHT
TZOFFSETFROM:+0100
TZOFFSETTO:+0200
TZNAME:CEST
DTSTART:20210328T010000
END:DAYLIGHT
BEGIN:STANDARD
TZOFFSETFROM:+0200
TZOFFSETTO:+0100
TZNAME:CET
DTSTART:20211031T010000
END:STANDARD
END:VTIMEZONE
BEGIN:VEVENT
DTSTART;TZID=Europe/Warsaw:20201017T100000
DTEND;TZID=Europe/Warsaw:20201017T120000
DTSTAMP:20260425T023524
CREATED:20201106T172249Z
LAST-MODIFIED:20201106T172249Z
UID:22424-1602928800-1602936000@fundacjadantian.com
SUMMARY:Staż form z bronią - kij\, miecz\, szabla
DESCRIPTION:Zapraszamy serdecznie na warsztaty\, na których będziemy szlifować formy taiji z bronią. \nStaż przeznaczony jest dla osób\, które zapoznały się już z formą ręczną taiji. \nZ powodu obostrzeń ilość osób w grupie jest ograniczona do pięciu osób w jednej grupie. \nPierwszy grupa godzina 10.00 – 11.00 \nDruga grupa godzina 11.00 – 12.00 \n  \nKalendarz stażu: \n17\, 24\, 31 października – kurs formy kija \n7\, 14 listopada – kurs formy miecza \n21\, 28 listopada – kurs formy szabli
URL:https://fundacjadantian.com/wydarzenie/staz-form-z-bronia-kij-miecz-szabla/2020-10-17/
ATTACH;FMTTYPE=image/jpeg:https://fundacjadantian.com/wp-content/uploads/2017/11/Kurs-szabli-.jpg
END:VEVENT
END:VCALENDAR