BEGIN:VCALENDAR
VERSION:2.0
PRODID:-//Fundacja Dantian - ECPv6.15.20//NONSGML v1.0//EN
CALSCALE:GREGORIAN
METHOD:PUBLISH
X-ORIGINAL-URL:https://fundacjadantian.com
X-WR-CALDESC:Wydarzenia dla Fundacja Dantian
REFRESH-INTERVAL;VALUE=DURATION:PT1H
X-Robots-Tag:noindex
X-PUBLISHED-TTL:PT1H
BEGIN:VTIMEZONE
TZID:Europe/Warsaw
BEGIN:DAYLIGHT
TZOFFSETFROM:+0100
TZOFFSETTO:+0200
TZNAME:CEST
DTSTART:20190331T010000
END:DAYLIGHT
BEGIN:STANDARD
TZOFFSETFROM:+0200
TZOFFSETTO:+0100
TZNAME:CET
DTSTART:20191027T010000
END:STANDARD
BEGIN:DAYLIGHT
TZOFFSETFROM:+0100
TZOFFSETTO:+0200
TZNAME:CEST
DTSTART:20200329T010000
END:DAYLIGHT
BEGIN:STANDARD
TZOFFSETFROM:+0200
TZOFFSETTO:+0100
TZNAME:CET
DTSTART:20201025T010000
END:STANDARD
BEGIN:DAYLIGHT
TZOFFSETFROM:+0100
TZOFFSETTO:+0200
TZNAME:CEST
DTSTART:20210328T010000
END:DAYLIGHT
BEGIN:STANDARD
TZOFFSETFROM:+0200
TZOFFSETTO:+0100
TZNAME:CET
DTSTART:20211031T010000
END:STANDARD
END:VTIMEZONE
BEGIN:VEVENT
DTSTART;TZID=Europe/Warsaw:20201028T103000
DTEND;TZID=Europe/Warsaw:20201028T120000
DTSTAMP:20260425T023646
CREATED:20200826T075936Z
LAST-MODIFIED:20200826T075936Z
UID:21974-1603881000-1603886400@fundacjadantian.com
SUMMARY:Qigong na Samogłoski 9A
DESCRIPTION:ZAJĘCIA SĄ ODWOŁANE! CZEKAMY NA DALSZE INFORMACJE RZĄDOWE W SPRAWIE PROWADZENIA PRZYSZŁYCH ZAJĘĆ! \nZAPRASZAMY DO ĆWICZEŃ W PRZESTRZENI ONLINE! \nDRODZY\, DROGIE\, DBAJMY O DOBRE SAMOPOCZUCIE PSYCHOFIZYCZNE W TYM NIESPOKOJNYM CZASIE! \nSerdecznie pozdrawiam\, \nZespół Fundacji Dantian \n  \nSerdecznie zapraszamy na zajęcia Qigongu do Miejsca Aktywności Społecznej Samogłoska\, przy ul. Samogłoski 9A/3\, w środy od 10.30 do 12.00. \nZabierzcie wygodne stroje\, obuwie na płaskiej podeszwie oraz dobry nastrój 🙂
URL:https://fundacjadantian.com/wydarzenie/qigong-na-samogloski-9a-2020-10-28/
END:VEVENT
END:VCALENDAR