BEGIN:VCALENDAR
VERSION:2.0
PRODID:-//Fundacja Dantian - ECPv6.15.20//NONSGML v1.0//EN
CALSCALE:GREGORIAN
METHOD:PUBLISH
X-ORIGINAL-URL:https://fundacjadantian.com
X-WR-CALDESC:Wydarzenia dla Fundacja Dantian
REFRESH-INTERVAL;VALUE=DURATION:PT1H
X-Robots-Tag:noindex
X-PUBLISHED-TTL:PT1H
BEGIN:VTIMEZONE
TZID:Europe/Warsaw
BEGIN:DAYLIGHT
TZOFFSETFROM:+0100
TZOFFSETTO:+0200
TZNAME:CEST
DTSTART:20210328T010000
END:DAYLIGHT
BEGIN:STANDARD
TZOFFSETFROM:+0200
TZOFFSETTO:+0100
TZNAME:CET
DTSTART:20211031T010000
END:STANDARD
BEGIN:DAYLIGHT
TZOFFSETFROM:+0100
TZOFFSETTO:+0200
TZNAME:CEST
DTSTART:20220327T010000
END:DAYLIGHT
BEGIN:STANDARD
TZOFFSETFROM:+0200
TZOFFSETTO:+0100
TZNAME:CET
DTSTART:20221030T010000
END:STANDARD
BEGIN:DAYLIGHT
TZOFFSETFROM:+0100
TZOFFSETTO:+0200
TZNAME:CEST
DTSTART:20230326T010000
END:DAYLIGHT
BEGIN:STANDARD
TZOFFSETFROM:+0200
TZOFFSETTO:+0100
TZNAME:CET
DTSTART:20231029T010000
END:STANDARD
END:VTIMEZONE
BEGIN:VEVENT
DTSTART;TZID=Europe/Warsaw:20220430T094500
DTEND;TZID=Europe/Warsaw:20220430T110000
DTSTAMP:20260422T174638
CREATED:20220331T122641Z
LAST-MODIFIED:20220401T102729Z
UID:29425-1651311900-1651316400@fundacjadantian.com
SUMMARY:Światowy dzień Taiji i Qigongu
DESCRIPTION:Zapraszamy do wspólnego celebrowania światowego Dnia Taiji i Qigongu\, kiedy to na całym świecie\, adepci tych sztuk\, spotkają się o godzinie 10.00 czasu lokalnego\, po to aby razem praktykować w intencji pokoju i rozprezasztrezniania się pozytywnego Qi. Spotykamy się o 9.45 przed Starą Kordegardą w Łazienkach Królewskich\, w sobotę 30 kwietnia  🙂
URL:https://fundacjadantian.com/wydarzenie/swiatowy-dzien-taiji-i-qigongu/
LOCATION:Łazienki Królewskie\, ul.Agrykola 1\, Warszawa
CATEGORIES:Qigong
ATTACH;FMTTYPE=image/jpeg:https://fundacjadantian.com/wp-content/uploads/2022/03/swiatowy-dzien-taiji.jpg
END:VEVENT
END:VCALENDAR