BEGIN:VCALENDAR
VERSION:2.0
PRODID:-//Fundacja Dantian - ECPv6.15.20//NONSGML v1.0//EN
CALSCALE:GREGORIAN
METHOD:PUBLISH
X-ORIGINAL-URL:https://fundacjadantian.com
X-WR-CALDESC:Wydarzenia dla Fundacja Dantian
REFRESH-INTERVAL;VALUE=DURATION:PT1H
X-Robots-Tag:noindex
X-PUBLISHED-TTL:PT1H
BEGIN:VTIMEZONE
TZID:Europe/Warsaw
BEGIN:DAYLIGHT
TZOFFSETFROM:+0100
TZOFFSETTO:+0200
TZNAME:CEST
DTSTART:20210328T010000
END:DAYLIGHT
BEGIN:STANDARD
TZOFFSETFROM:+0200
TZOFFSETTO:+0100
TZNAME:CET
DTSTART:20211031T010000
END:STANDARD
BEGIN:DAYLIGHT
TZOFFSETFROM:+0100
TZOFFSETTO:+0200
TZNAME:CEST
DTSTART:20220327T010000
END:DAYLIGHT
BEGIN:STANDARD
TZOFFSETFROM:+0200
TZOFFSETTO:+0100
TZNAME:CET
DTSTART:20221030T010000
END:STANDARD
BEGIN:DAYLIGHT
TZOFFSETFROM:+0100
TZOFFSETTO:+0200
TZNAME:CEST
DTSTART:20230326T010000
END:DAYLIGHT
BEGIN:STANDARD
TZOFFSETFROM:+0200
TZOFFSETTO:+0100
TZNAME:CET
DTSTART:20231029T010000
END:STANDARD
END:VTIMEZONE
BEGIN:VEVENT
DTSTART;TZID=Europe/Warsaw:20221117T110000
DTEND;TZID=Europe/Warsaw:20221117T122000
DTSTAMP:20260421T201517
CREATED:20220907T134919Z
LAST-MODIFIED:20221121T130052Z
UID:30458-1668682800-1668687600@fundacjadantian.com
SUMMARY:Warsztaty artystyczno-ruchowe
DESCRIPTION:Fantazyjny kształt liści\, to tytuł kolejnego spotkania w MNW. Sudium natury\, kształty\, kolory i struktury roślin mogą zostać uwiecznione za pomocą malarskiego albo rysunkowego szkicu. Zapraszamy seniorów do wspólnego zwiedzania galerii muzealnej w poszukiwaniu takich przykładów. Będą one podstawą do poznania techniki malarskiej\, jaką jest monotypia. \nPROWADZĄCA \nMarzena Maya Rostkowska – z wykształcenia pedagog\, magister sztuki\, scenograf\, ilustrator\, grafik. Pisząca podróżniczka\, a z zamiłowania do ruchu instruktorka taiji i qigongu w Fundacji Dantian. Sztuka i ruch to jej pasja\, której daje uwagę i czas\, którą zamienia na obrazy\, książki\, zajęcia ruchowe i filmy. \nLink do strony MNW
URL:https://fundacjadantian.com/wydarzenie/warsztaty-artystyczno-ruchowe-11/
LOCATION:Muzeum Narodowe\, Al. Jerozolimskie 3\, Warszawa
ATTACH;FMTTYPE=image/jpeg:https://fundacjadantian.com/wp-content/uploads/2022/01/Kalendarz-1920x1080-px-2.jpeg
END:VEVENT
END:VCALENDAR