BEGIN:VCALENDAR
VERSION:2.0
PRODID:-//Fundacja Dantian - ECPv6.15.20//NONSGML v1.0//EN
CALSCALE:GREGORIAN
METHOD:PUBLISH
X-WR-CALNAME:Fundacja Dantian
X-ORIGINAL-URL:https://fundacjadantian.com
X-WR-CALDESC:Wydarzenia dla Fundacja Dantian
REFRESH-INTERVAL;VALUE=DURATION:PT1H
X-Robots-Tag:noindex
X-PUBLISHED-TTL:PT1H
BEGIN:VTIMEZONE
TZID:Europe/Warsaw
BEGIN:DAYLIGHT
TZOFFSETFROM:+0100
TZOFFSETTO:+0200
TZNAME:CEST
DTSTART:20220327T010000
END:DAYLIGHT
BEGIN:STANDARD
TZOFFSETFROM:+0200
TZOFFSETTO:+0100
TZNAME:CET
DTSTART:20221030T010000
END:STANDARD
BEGIN:DAYLIGHT
TZOFFSETFROM:+0100
TZOFFSETTO:+0200
TZNAME:CEST
DTSTART:20230326T010000
END:DAYLIGHT
BEGIN:STANDARD
TZOFFSETFROM:+0200
TZOFFSETTO:+0100
TZNAME:CET
DTSTART:20231029T010000
END:STANDARD
BEGIN:DAYLIGHT
TZOFFSETFROM:+0100
TZOFFSETTO:+0200
TZNAME:CEST
DTSTART:20240331T010000
END:DAYLIGHT
BEGIN:STANDARD
TZOFFSETFROM:+0200
TZOFFSETTO:+0100
TZNAME:CET
DTSTART:20241027T010000
END:STANDARD
END:VTIMEZONE
BEGIN:VEVENT
DTSTART;TZID=Europe/Warsaw:20231021T100000
DTEND;TZID=Europe/Warsaw:20231021T120000
DTSTAMP:20260425T023647
CREATED:20231018T083614Z
LAST-MODIFIED:20231018T085652Z
UID:39435-1697882400-1697889600@fundacjadantian.com
SUMMARY:Staż formy miecza
DESCRIPTION:Staż wyłącznie dla adeptów znających długą formę ręczną taiji naszej szkoły Yang Jia Lao Jia
URL:https://fundacjadantian.com/wydarzenie/staz-formy-miecza/2023-10-21/
LOCATION:MDK im. W.Broniewskiego\, Ul. Łazienkowska 7\, Warszawa
CATEGORIES:Staż taiji
ATTACH;FMTTYPE=image/jpeg:https://fundacjadantian.com/wp-content/uploads/2023/10/STAZ.MIECZ_.jpg
END:VEVENT
END:VCALENDAR