BEGIN:VCALENDAR
VERSION:2.0
PRODID:-//Fundacja Dantian - ECPv6.15.16//NONSGML v1.0//EN
CALSCALE:GREGORIAN
METHOD:PUBLISH
X-WR-CALNAME:Fundacja Dantian
X-ORIGINAL-URL:https://fundacjadantian.com
X-WR-CALDESC:Wydarzenia dla Fundacja Dantian
REFRESH-INTERVAL;VALUE=DURATION:PT1H
X-Robots-Tag:noindex
X-PUBLISHED-TTL:PT1H
BEGIN:VTIMEZONE
TZID:Europe/Warsaw
BEGIN:DAYLIGHT
TZOFFSETFROM:+0100
TZOFFSETTO:+0200
TZNAME:CEST
DTSTART:20230326T010000
END:DAYLIGHT
BEGIN:STANDARD
TZOFFSETFROM:+0200
TZOFFSETTO:+0100
TZNAME:CET
DTSTART:20231029T010000
END:STANDARD
BEGIN:DAYLIGHT
TZOFFSETFROM:+0100
TZOFFSETTO:+0200
TZNAME:CEST
DTSTART:20240331T010000
END:DAYLIGHT
BEGIN:STANDARD
TZOFFSETFROM:+0200
TZOFFSETTO:+0100
TZNAME:CET
DTSTART:20241027T010000
END:STANDARD
BEGIN:DAYLIGHT
TZOFFSETFROM:+0100
TZOFFSETTO:+0200
TZNAME:CEST
DTSTART:20250330T010000
END:DAYLIGHT
BEGIN:STANDARD
TZOFFSETFROM:+0200
TZOFFSETTO:+0100
TZNAME:CET
DTSTART:20251026T010000
END:STANDARD
END:VTIMEZONE
BEGIN:VEVENT
DTSTART;VALUE=DATE:20240908
DTEND;VALUE=DATE:20240915
DTSTAMP:20260420T071401
CREATED:20230925T070545Z
LAST-MODIFIED:20240614T101304Z
UID:39185-1725753600-1726358399@fundacjadantian.com
SUMMARY:Wyjazdowy staż taiji- Daliowa
DESCRIPTION:Kiedy już wejdziesz na ścieżkę taiji\, otwiera się nieograniczona czasem droga ucznia\, pracującego nad wieloma aspektami własnej praktyki. Ta droga nie ma końca i to jest najciekawsza perspektywa 🙂\n\nPrzed nami dwa jesienne staże\, poświęcone wyłącznie taiji. Pierwszy\, W Daliowej\, dedykowany adeptom zaawansowanym i tym na początku dogi ale znającym już nieco formę ręczną. Prowadzony `będzie przez Mistrza Ly\, nauczyciela siódmej generacji oraz Mariannę Plouvier\, również doświadczoną nauczycielkę. Staż będzie treningiem formy ręcznej  oraz formy z bronią i podzielony będzie na grupy\, w zależności od stopnia zaawansowania.\n\nDla adeptów\, którzy w listopadzie wezmą udział w festiwalu naszego stylu\, który po wielu latach przerwy\, odbędzie się na Tajwanie\, w kolebce szkoły  Yangjialaojia\, ten staż będzie przygotowaniem zarówno do egzaminów na wyższe poziomy jak treningiem przez zawodami\, w których weźmiemy udział.
URL:https://fundacjadantian.com/wydarzenie/warsztat-wyjazdowy-starzyna/
LOCATION:Dzikie Wino\, Daliowa 13\, Daliowa\, 38-485
CATEGORIES:Warsztaty wyjazdowe
ATTACH;FMTTYPE=image/jpeg:https://fundacjadantian.com/wp-content/uploads/2023/09/STAZ-TAIJI.DALIOWA.jpg
END:VEVENT
BEGIN:VEVENT
DTSTART;TZID=Europe/Warsaw:20240908T090000
DTEND;TZID=Europe/Warsaw:20240908T103000
DTSTAMP:20260420T071401
CREATED:20220124T105643Z
LAST-MODIFIED:20240819T095623Z
UID:43543-1725786000-1725791400@fundacjadantian.com
SUMMARY:Trening weekendowy
DESCRIPTION:Jeśli chcesz spędzić aktywnie czas\, w przyrodzie\, zapraszamy na weekendowe\, otwarte treningi do Łazienek Królewskich. O każdej porze roku\, bez względu na pogodę ćwiczymy ciało i ducha 🙂 wystarczy dostosować odpowiednio ubranie i buty. Zapraszamy zaawansowanych i niezaawansowanych. Zaczynamy Codziennym Rytuałem Zdrowia\, ćwiczymy długą formę Starego Stylu Yang Taiji oraz formy z bronią.  Do zobaczenia 🙂
URL:https://fundacjadantian.com/wydarzenie/trening-weekendowy-16/2024-09-08/
LOCATION:Łazienki Królewskie\, ul.Agrykola 1\, Warszawa
CATEGORIES:Trening weekendowy
ATTACH;FMTTYPE=image/jpeg:https://fundacjadantian.com/wp-content/uploads/2022/01/page-6.jpeg
END:VEVENT
END:VCALENDAR